BEGIN:VCALENDAR
VERSION:2.0
PRODID:-//wp-events-plugin.com//7.2.3.1//EN
TZID:Europe/Amsterdam
X-WR-TIMEZONE:Europe/Amsterdam
BEGIN:VEVENT
UID:1940@duurzaam-ondernemen.nl
DTSTART;TZID=Europe/Amsterdam:20261021T100000
DTEND;TZID=Europe/Amsterdam:20261022T170000
DTSTAMP:20260218T132159Z
URL:https://www.duurzaam-ondernemen.nl/events/world-sustainability-congres
 s-2026/
SUMMARY:World Sustainability Congress 2026
DESCRIPTION:With 2030 goals fast approaching\, the urgency to move from pla
 nning to execution has never been greater. The World Sustainability Congre
 ss is where CSOs\, pioneers and innovators connect to share bold ideas and
  solutions to stay ahead of emerging trends.\n\nSet in the breathtaking Ga
 rden of Amsterdam - a venue rooted in sustainability - join a powerful com
 munity ready to accelerate action. Will you be part of the movement?\n\nMo
 re information\n\n
ATTACH;FMTTYPE=image/jpeg:https://www.duurzaam-ondernemen.nl/wordpress/wp-
 content/uploads/2025/12/ws2026.jpg
CATEGORIES:Duurzaamheidsprofessionals
LOCATION:Arendshoeve - The Garden of Amsterdam\, Aalsmeerderdijk 438\,\, Aa
 lsmeerderbrug\, 1436 BL\, Nederland
GEO:52.268854;4.740061
X-APPLE-STRUCTURED-LOCATION;VALUE=URI;X-ADDRESS=Aalsmeerderdijk 438\,\, Aal
 smeerderbrug\, 1436 BL\, Nederland;X-APPLE-RADIUS=100;X-TITLE=Arendshoeve 
 - The Garden of Amsterdam:geo:52.268854,4.740061
END:VEVENT
BEGIN:VTIMEZONE
TZID:Europe/Amsterdam
X-LIC-LOCATION:Europe/Amsterdam
BEGIN:DAYLIGHT
DTSTART:20260329T030000
TZOFFSETFROM:+0100
TZOFFSETTO:+0200
TZNAME:CEST
END:DAYLIGHT
END:VTIMEZONE
END:VCALENDAR