BEGIN:VCALENDAR
VERSION:2.0
PRODID:-//wp-events-plugin.com//7.2.3.1//EN
TZID:Europe/Amsterdam
X-WR-TIMEZONE:Europe/Amsterdam
BEGIN:VEVENT
UID:1891@duurzaam-ondernemen.nl
DTSTART;TZID=Europe/Amsterdam:20251120T130000
DTEND;TZID=Europe/Amsterdam:20251120T170000
DTSTAMP:20251104T102614Z
URL:https://www.duurzaam-ondernemen.nl/events/workshop-in-een-dag-van-star
 t-met-vsme/
SUMMARY:Workshop: in één dag van start met VSME
DESCRIPTION:Steeds meer bedrijven vragen om inzicht in jouw duurzaamheidspr
 estaties. De markt vraagt erom en steeds meer bedrijven vallen onder deze 
 wetgeving. Met de VSME\, een vrijwillige rapportagestandaard speciaal voor
  het mkb\, heb je een praktische en heldere manier om die informatie aan t
 e leveren.\n\nDe VSME is ontwikkeld door de EU voor bedrijven zoals dat va
 n jou: het mkb dat te maken krijgen met vragen van klanten\, partners of k
 etenregie over hun duurzaamheid. Ben je het eindeloos googelen zat en zit 
 een consultant er voor jou niet in? Of heb je al je eerste duurzaamheidsda
 taverzoek binnen gekregen van een klant of afnemer? Tijdens deze workshop 
 werk je onder begeleiding van experts en samen met andere mkb’ers aan jo
 uw eerste VSME-rapport. Geen theorie\, maar concrete resultaten. Je loopt 
 de deur uit met een ingevulde basismodule\, inzicht in je vervolgstappen 
 én een helder beeld van hoe dit past in jouw businesscase.\n\n 	Inclusief
  lunch vooraf en borrel achteraf\n 	Kosten: 495\,- voor partners en 795\,-
  voor niet partners\n\nNa deze workshop:\n\n 	lever je (mits je iets voorb
 ereidend werk doet) al jouw eerste ingevulde VSME-basisrapport op.\n 	weet
  je waarom de VSME waarde toevoegt aan jouw businesscase\;\n 	ken je de ve
 rvolgstappen richting een compleet rapport\;\n 	kun je zelfstandig verder 
 of weet je waar hulp te vragen\;\n 	heb je toegang tot de VSME-tool van Ee
 very\, die je een jaar lang vrijblijvend kunt gebruiken\;\n 	heb je ervari
 ngen uitgewisseld met peers die in hetzelfde schuitje zitten.\n\nSprekers\
 n\n 	Michiel Slinkert\, Co-founder van Eevery: helpt mkb-bedrijven met inz
 icht en actie op duurzaamheid\n 	Otto Kempkes\, Partner &amp\; adviseur bi
 j Grant Thornton: expert in duurzaamheid en verslaggeving in het mkb\n\nVo
 or wie is deze workshop?\nDeze workshop is bedoeld voor iedereen binnen ee
 n mkb-bedrijf die verantwoordelijk is voor duurzaamheidsvragen vanuit de k
 eten\, klanten of partners. Denk aan duurzaamheidscoördinatoren\, ESG-spe
 cialisten\, inkopers\, directeuren en eigenaren. Je hoeft geen expert te z
 ijn: deze workshop is speciaal voor bedrijven die net beginnen met rapport
 eren\, maar wel snel stappen willen zetten.\n\nAanmelden
ATTACH;FMTTYPE=image/jpeg:https://www.duurzaam-ondernemen.nl/wordpress/wp-
 content/uploads/2025/11/eevery-communicatie-kit.png
CATEGORIES:Verslaggeving &amp; Transparantie
LOCATION:Social Impact Factory\, Vredenburg 40\, Utrecht\, Nederland
GEO:52.093096;5.112049
X-APPLE-STRUCTURED-LOCATION;VALUE=URI;X-ADDRESS=Vredenburg 40\, Utrecht\, N
 ederland;X-APPLE-RADIUS=100;X-TITLE=Social Impact Factory:geo:52.093096,5.
 112049
END:VEVENT
BEGIN:VTIMEZONE
TZID:Europe/Amsterdam
X-LIC-LOCATION:Europe/Amsterdam
BEGIN:STANDARD
DTSTART:20251026T020000
TZOFFSETFROM:+0200
TZOFFSETTO:+0100
TZNAME:CET
END:STANDARD
END:VTIMEZONE
END:VCALENDAR