BEGIN:VCALENDAR
VERSION:2.0
PRODID:-//wp-events-plugin.com//7.2.3.1//EN
TZID:Europe/Amsterdam
X-WR-TIMEZONE:Europe/Amsterdam
BEGIN:VEVENT
UID:1953@duurzaam-ondernemen.nl
DTSTART;TZID=Europe/Amsterdam:20260520T093000
DTEND;TZID=Europe/Amsterdam:20260521T170000
DTSTAMP:20260317T160115Z
URL:https://www.duurzaam-ondernemen.nl/events/workplace-xperience-2026/
SUMMARY:WorkPlace Xperience 2026
DESCRIPTION:Wat is de WorkPlace Xperience?\nDe duurzame stap naar de gezond
 e en gelukkige werkomgeving van morgen. WorkPlace Xperience zet de deeln
 emers aan tot actie met één helder doel: een werkomgeving creëren 
 die productiever en gezonder is en zo bijdraagt aan een duurzame same
 nleving. \n\nHoren\, zien\, beleven\, ontmoeten\, delen en doen!\nLeer ho
 e je generaties en diverse achtergronden samenbrengt in een inclusieve en 
 dynamische werkomgeving waar iedereen tot zijn recht komt. Laat je inspir
 eren door de nieuwste technologieën en praktische oplossingen die je dire
 ct kunt toepassen binnen jouw organisatie. \n\nOntmoet een uniek netwer
 k van eindgebruikers die dezelfde uitdagingen hebben als jij op het gebie
 d van strategie\, samenwerking en inkoop. Deel je kennis en werk samen a
 an de oplossingen van morgen. Doe mee tijdens interactieve sessies waa
 rin je kunt bijdragen aan de ontwikkeling van toekomstige tenders. Jouw in
 put en ideeën maken het verschil in het vormgeven van de werkomgeving va
 n morgen.  \n\nOp vijf essentiële thema’s organiseert WorkPlace Xper
 ience round tables\, debatten en workshops voor de deelnemers:  \n\n 
 	Inclusiviteit: Hoe zorg je voor een inclusieve cultuur waarin diversitei
 t wordt gewaardeerd?\n 	Vitaliteit: Werk-privébalans: Hoe voorkom je bur
 n-out door beleid en werkstructuren? Wat is de verantwoordelijkheid van d
 e werkgever? \n 	Innovatie: Hoe zorg je voor ethisch gebruik van AI op d
 e werkvloer? Hoe krijgen innovaties een eerlijke kans? \n 	Duurzaamheid:
  Hoe maak je werkomgevingen die een positieve bijdrage leveren tegen 
 klimaatverandering? \n 	Digitalisering en de toekomst van werk: Welke re
 gelgeving is nodig om dataveiligheid te waarborgen? Hoe zorgen werkgevers
  voor aansluiting door elke werknemer? \n\nZet vandaag de duurzame stap
  naar jouw gezonde en gelukkige werkomgeving van morgen. \n\nMeer inf
 ormatie/aanmelden
ATTACH;FMTTYPE=image/jpeg:https://www.duurzaam-ondernemen.nl/wordpress/wp-
 content/uploads/2026/01/WPX.png
CATEGORIES:Bouw/Infra &amp; Vastgoed
LOCATION:Jaarbeurs\, Jaarbeursplein\, Utrecht\, 3521 AL\, Nederland
GEO:52.090276;5.105317
X-APPLE-STRUCTURED-LOCATION;VALUE=URI;X-ADDRESS=Jaarbeursplein\, Utrecht\, 
 3521 AL\, Nederland;X-APPLE-RADIUS=100;X-TITLE=Jaarbeurs:geo:52.090276,5.1
 05317
END:VEVENT
BEGIN:VTIMEZONE
TZID:Europe/Amsterdam
X-LIC-LOCATION:Europe/Amsterdam
BEGIN:DAYLIGHT
DTSTART:20260329T030000
TZOFFSETFROM:+0100
TZOFFSETTO:+0200
TZNAME:CEST
END:DAYLIGHT
END:VTIMEZONE
END:VCALENDAR