BEGIN:VCALENDAR
VERSION:2.0
PRODID:-//wp-events-plugin.com//7.2.3.1//EN
TZID:Europe/Amsterdam
X-WR-TIMEZONE:Europe/Amsterdam
BEGIN:VEVENT
UID:1932@duurzaam-ondernemen.nl
DTSTART;TZID=Europe/Amsterdam:20251218T110000
DTEND;TZID=Europe/Amsterdam:20251218T120000
DTSTAMP:20251215T174014Z
URL:https://www.duurzaam-ondernemen.nl/events/webinar-what-the-dec-16-vote
 -means-for-the-eudr-and-omnibus/
SUMMARY:Webinar 'What the Dec 16 and 17 votes mean for the EUDR and Omnibus
 '
DESCRIPTION:Op 16 december stemt het Europees Parlement over twee belangrij
 ke wetsvoorstellen die vanaf 2026 de duurzaamheids- en ketenregels in de E
 U zullen bepalen: de EUDR en het EU Omnibus-pakket.\n\nOp 18 december om 
 11:00 CET organiseert Coolset een live sessie van 60 minuten waarin we 
 uitleggen wat er besloten is\, wat nog onduidelijk blijft en hoe jij je pl
 annen kunt aanpassen.\n\nProfessor Andreas Rasche (Copenhagen Business Sc
 hool) sluit aan bij Coolset-duurzaamheidsexperts Jasper Akkermans en El
 isavet Diamantopoulou. Samen combineren ze beleidscontext met praktische i
 nzichten over compliance en implementatie.\nWat je leert:\n→ Wat er is g
 estemd in elk dossier (EUDR vs Omnibus)\n→ Praktische gevolgen voor EUDR
 -compliance\n→ Wat de uitkomst van het Omnibus-pakket betekent voor de r
 eikwijdte en timing van de CSRD en CSDDD\n→ Belangrijke tijdlijnen en ov
 ergangsregels om op te letten\n\nDaarna volgt een live Q&amp\;A van 40 mi
 nuten\, volledig gericht op concrete vragen van deelnemers.\nExpertpanel:\
 n• Andreas Rasche – beleid\, governance en strategische inzichten\n
 • Elisavet Diamantopoulou – technische interpretatie van EUDR en de 
 impact op dagelijkse compliance\n• Jasper Akkermans – marktinzichten
  en implementatierealiteit vanuit duurzaamheidstechnologie\n\nReserveer hi
 er je plek\n\nKun je er niet live bij zijn? Registreer je dan toch en we s
 turen je de opname en de presentatie achteraf toe.
ATTACH;FMTTYPE=image/jpeg:https://www.duurzaam-ondernemen.nl/wordpress/wp-
 content/uploads/2025/12/unnamed-2025-12-15T183831.507.png
CATEGORIES:Duurzaamheidsprofessionals,Verslaggeving &amp; Transparantie
LOCATION:\, \, Nederland
X-APPLE-STRUCTURED-LOCATION;VALUE=URI;X-ADDRESS=\, Nederland;X-APPLE-RADIUS
 =100;X-TITLE=:geo:0,0
END:VEVENT
BEGIN:VTIMEZONE
TZID:Europe/Amsterdam
X-LIC-LOCATION:Europe/Amsterdam
BEGIN:STANDARD
DTSTART:20251026T020000
TZOFFSETFROM:+0200
TZOFFSETTO:+0100
TZNAME:CET
END:STANDARD
END:VTIMEZONE
END:VCALENDAR