BEGIN:VCALENDAR
VERSION:2.0
PRODID:-//wp-events-plugin.com//7.2.3.1//EN
TZID:Europe/Amsterdam
X-WR-TIMEZONE:Europe/Amsterdam
BEGIN:VEVENT
UID:1904@duurzaam-ondernemen.nl
DTSTART;TZID=Europe/Amsterdam:20251209T100000
DTEND;TZID=Europe/Amsterdam:20251209T110000
DTSTAMP:20251119T100759Z
URL:https://www.duurzaam-ondernemen.nl/events/webinar-waarom-nu-het-moment
 -is-voor-een-ecovadis-rating/
SUMMARY:Webinar 'Waarom nu het moment is voor een EcoVadis rating'
DESCRIPTION:Waar we het over gaan hebben\nSteeds meer bedrijven vragen tege
 nwoordig om een EcoVadis rating.\n\nNiet alleen grote multinationals\, maa
 r ook steeds meer leveranciers en ketenpartners gebruiken het systeem om h
 un duurzaamheidsprestaties te beoordelen en te verbeteren.\n\nEn die groei
  gaat snel. Inmiddels zijn wereldwijd meer dan 150.000 bedrijven beoordee
 ld\, een stijging van ruim 160% sinds 2020.\n\nToch staan veel organisatie
 s nog aan het begin. Terwijl juist nu het perfecte moment is om in te stap
 pen.\nWaarom?\n\n 	In 2025 verandert de beoordelingsmethode met nieuwe cri
 teria zoals circulaire economie en strengere bewijsvoering\n 	De aansluiti
 ng met CSRD en EFRAG standaarden maakt de rating relevanter dan ooit\n 	
 De vraag vanuit klanten en ketenpartners neemt in hoog tempo toe\n\nTijden
 s dit webinar leggen we (De Duurzame Adviseurs) uit:\n\n 	Wat EcoVadis pre
 cies is en hoe het werkt\n 	Hoe je de score van jouw organisatie kunt verb
 eteren\n 	Hoe de nieuwe criteria eruitzien en wat er verandert in 2025\n 	
 En waarom een externe rating steeds vaker het verschil maakt bij aanbested
 ingen\, klanten en partners\n\nOf je nu al actief bezig bent met duurzaamh
 eid of net start met rapporteren\, dit webinar helpt je begrijpen hoe EcoV
 adis werkt\, wat het toevoegt aan je strategie en hoe je er direct voordee
 l uit haalt.\n\nAanmelden kan op deze pagina
ATTACH;FMTTYPE=image/jpeg:https://www.duurzaam-ondernemen.nl/wordpress/wp-
 content/uploads/2025/11/DDA-Webinar-afbeelding.png
CATEGORIES:Duurzaamheidsprofessionals
LOCATION:Online webinar\,  \,  \, Nederland
GEO:52.132633;5.291266
X-APPLE-STRUCTURED-LOCATION;VALUE=URI;X-ADDRESS= \,  \, Nederland;X-APPLE-R
 ADIUS=100;X-TITLE=Online webinar:geo:52.132633,5.291266
END:VEVENT
BEGIN:VTIMEZONE
TZID:Europe/Amsterdam
X-LIC-LOCATION:Europe/Amsterdam
BEGIN:STANDARD
DTSTART:20251026T020000
TZOFFSETFROM:+0200
TZOFFSETTO:+0100
TZNAME:CET
END:STANDARD
END:VTIMEZONE
END:VCALENDAR