BEGIN:VCALENDAR
VERSION:2.0
PRODID:-//wp-events-plugin.com//7.2.3.1//EN
TZID:Europe/Amsterdam
X-WR-TIMEZONE:Europe/Amsterdam
BEGIN:VEVENT
UID:1869@duurzaam-ondernemen.nl
DTSTART;TZID=Europe/Amsterdam:20251030T110000
DTEND;TZID=Europe/Amsterdam:20251030T120000
DTSTAMP:20251017T134109Z
URL:https://www.duurzaam-ondernemen.nl/events/webinar-voorbereiding-op-de-
 nieuwe-esrs/
SUMMARY:Webinar: Voorbereiding op de nieuwe ESRS
DESCRIPTION:Op Donderdag 30\, Oktober om 11:00 AM organiseert Coolset een 
 live sessie van 45 minuten waarin u snel op de hoogte raakt van ESRS\, voo
 rdat de updates eind november worden verwacht.\n\nNu de JURI-commissie van
  het Europees Parlement op 13 oktober overeenstemming heeft bereikt over d
 e kernelementen van het Omnibusvoorstel\, verandert het landschap van duur
 zaamheidsverslaggeving snel.\n\nDe definitieve gegevenspunten en ESRS-upda
 tes worden eind november verwacht. Het is dus nu het moment om weer op de 
 hoogte te zijn.\n\nWat je leert:\n\n→ Hoe de JURI-overeenkomst het Omnib
 uspakket hervormt en wat dit betekent voor de reikwijdte\, drempelwaarden 
 en vrijstellingen van de CSRD\n\n→ Wat u kunt verwachten van de definiti
 eve ESRS en dataset\, en hoe u uw rapportagemodel tijdig kunt aanpassen\n\
 n→ Hoe u budgetten\, personeel en volgorde kunt plannen met veranderende
  regelgeving\n\nReserveer hier uw plek
ATTACH;FMTTYPE=image/jpeg:https://www.duurzaam-ondernemen.nl/wordpress/wp-
 content/uploads/2025/10/prpe.jpg
CATEGORIES:Verslaggeving &amp; Transparantie
LOCATION:Online webinar\,  \,  \, Nederland
GEO:52.132633;5.291266
X-APPLE-STRUCTURED-LOCATION;VALUE=URI;X-ADDRESS= \,  \, Nederland;X-APPLE-R
 ADIUS=100;X-TITLE=Online webinar:geo:52.132633,5.291266
END:VEVENT
BEGIN:VTIMEZONE
TZID:Europe/Amsterdam
X-LIC-LOCATION:Europe/Amsterdam
BEGIN:STANDARD
DTSTART:20251026T020000
TZOFFSETFROM:+0200
TZOFFSETTO:+0100
TZNAME:CET
END:STANDARD
END:VTIMEZONE
END:VCALENDAR