BEGIN:VCALENDAR
VERSION:2.0
PRODID:-//wp-events-plugin.com//7.2.3.1//EN
TZID:Europe/Amsterdam
X-WR-TIMEZONE:Europe/Amsterdam
BEGIN:VEVENT
UID:1675@duurzaam-ondernemen.nl
DTSTART;TZID=Europe/Amsterdam:20250424T110000
DTEND;TZID=Europe/Amsterdam:20250424T120000
DTSTAMP:20250326T114441Z
URL:https://www.duurzaam-ondernemen.nl/events/webinar-verification-of-carb
 on-footprints-limited-assurance-and-beyond/
SUMMARY:Webinar 'Verification of carbon footprints: limited assurance and b
 eyond'
DESCRIPTION:Naarmate carbon footprinting matuurder wordt\, wordt een beoord
 eling door een derde partij steeds belangrijker. Het is echter vaak een re
 latief nieuw onderwerp in de sector van duurzaamheidsrapportage.\n\nIn dit
  webinar zoomen we in op de verschillen en overeenkomsten tussen de versch
 illende soorten beoordelingen door derden:\n\n 	Limited assurance (as requ
 ired under CSRD): BDO\n 	Verification (w.r.t. ISO standards): SGS Europe\n
  	How software can help with third-party review: Carbon+Alt+Delete\n\nRegi
 streer hier\n\nDe Carbon Expert-series is opgezet om duurzaamheidsconsult
 ants die werken binnen het carbon footprintingdomein met elkaar te verbind
 en\, te inspireren en te informeren. Samen met externe experts deelt het C
 arbon+Alt+Delete-team inzichten over uiteenlopende onderwerpen\, van wetge
 ving tot technologie\, emissiefactoren tot product-carbon footprinting en 
 meer.
ATTACH;FMTTYPE=image/jpeg:https://www.duurzaam-ondernemen.nl/wordpress/wp-
 content/uploads/2025/03/Webinar-templates.png
CATEGORIES:Klimaat en Energie
LOCATION:Online webinar\,  \,  \, Nederland
GEO:52.132633;5.291266
X-APPLE-STRUCTURED-LOCATION;VALUE=URI;X-ADDRESS= \,  \, Nederland;X-APPLE-R
 ADIUS=100;X-TITLE=Online webinar:geo:52.132633,5.291266
END:VEVENT
BEGIN:VTIMEZONE
TZID:Europe/Amsterdam
X-LIC-LOCATION:Europe/Amsterdam
BEGIN:DAYLIGHT
DTSTART:20250330T030000
TZOFFSETFROM:+0100
TZOFFSETTO:+0200
TZNAME:CEST
END:DAYLIGHT
END:VTIMEZONE
END:VCALENDAR