BEGIN:VCALENDAR
VERSION:2.0
PRODID:-//wp-events-plugin.com//7.2.3.1//EN
TZID:Europe/Amsterdam
X-WR-TIMEZONE:Europe/Amsterdam
BEGIN:VEVENT
UID:1637@duurzaam-ondernemen.nl
DTSTART;TZID=Europe/Amsterdam:20250313T103000
DTEND;TZID=Europe/Amsterdam:20250313T220000
DTSTAMP:20250221T111034Z
URL:https://www.duurzaam-ondernemen.nl/events/webinar-verantwoord-inkopen-
 en-due-diligence/
SUMMARY:Webinar: Verantwoord inkopen en due diligence
DESCRIPTION:Verantwoord inkopen is een belangrijke stap binnen due diligenc
 e. Maar hoe zorg jij ervoor dat jouw inkoopbeleid aansluit bij MVO-richtli
 jnen? Tijdens ons webinar op 13 maart bespreken experts de belangrijkste r
 andvoorwaarden en delen ze praktische tips om jouw inkoopproces duurzamer 
 en transparanter te maken.\n\nWat kun je verwachten?\n✔️ Inzichten in 
 verantwoord inkopen binnen due diligence\n✔️ Praktische tips en tools 
 voor een duurzaam inkoopbeleid\n✔️ De kans om vragen te stellen aan ex
 perts\n\nSprekers: Jaap Rijnsdorp (CEO en verantwoordelijk voor inkoop) va
 n Schijvens en Naomi Kervel (MVO steunpunt)\n\nMeld je nu aan!
ATTACH;FMTTYPE=image/jpeg:https://www.duurzaam-ondernemen.nl/wordpress/wp-
 content/uploads/2025/02/mvosteunpunt.png
CATEGORIES:Duurzaamheidsprofessionals
LOCATION:Online webinar\,  \,  \, Nederland
GEO:52.132633;5.291266
X-APPLE-STRUCTURED-LOCATION;VALUE=URI;X-ADDRESS= \,  \, Nederland;X-APPLE-R
 ADIUS=100;X-TITLE=Online webinar:geo:52.132633,5.291266
END:VEVENT
BEGIN:VTIMEZONE
TZID:Europe/Amsterdam
X-LIC-LOCATION:Europe/Amsterdam
BEGIN:STANDARD
DTSTART:20241027T020000
TZOFFSETFROM:+0200
TZOFFSETTO:+0100
TZNAME:CET
END:STANDARD
END:VTIMEZONE
END:VCALENDAR