BEGIN:VCALENDAR
VERSION:2.0
PRODID:-//wp-events-plugin.com//7.2.3.1//EN
TZID:Europe/Amsterdam
X-WR-TIMEZONE:Europe/Amsterdam
BEGIN:VEVENT
UID:2073@duurzaam-ondernemen.nl
DTSTART;TZID=Europe/Amsterdam:20260521T120000
DTEND;TZID=Europe/Amsterdam:20260521T124500
DTSTAMP:20260424T113511Z
URL:https://www.duurzaam-ondernemen.nl/events/webinar-van-iso-14001-naar-v
 sme-de-logische-volgende-stap/
SUMMARY:Webinar 'Van ISO 14001 naar VSME: de logische volgende stap'
DESCRIPTION:Werk je al met een ISO 14001 managementsysteem en wil je jouw d
 uurzaamheidsinspanningen verder professionaliseren en hierover transparant
  communiceren? Ontdek in ons webinar hoe je de stap zet van ISO 14001 naar
  een VSME-rapport – praktisch\, overzichtelijk en met duidelijke meerwaa
 rde. Steeds meer organisaties krijgen vragen van interne en externe stakeh
 olders over hun duurzaamheidsprestaties. Met een VSME-rapport maak je jouw
  prestaties transparant\, voldoe je aan groeiende verwachtingen van klante
 n en partners en ben je voorbereid op toekomstige rapportage-eisen.\n\nHet
  goede nieuws: als je al werkt vanuit ISO 14001\, heb je een sterke basis.
  De organisatie waar jij deel van uitmaakt heeft al een (milieu)management
 systeem dat  vele antwoorden beantwoordt. In dit webinar laten we zien ho
 e je bestaande informatie en processen kunt gebruiken om efficiënt een VS
 ME-rapport op te stellen.\n\nWat kun je verwachten?\n\n 	Waarom verslagleg
 ging op basis van VSME een logische vervolgstap is vanuit ISO 14001\n 	Wel
 ke voordelen VSME biedt voor jouw organisatie\n 	De link tussen ISO 14001 
 en VSME: wat heb je al en wat ontbreekt er nog?\n 	Hoe je met ons praktisc
 he stappenplan inzicht krijgt in de benodigde inspanning\n 	Concrete tips 
 om efficiënt van start te gaan\n\nNa dit webinar van TOSCA weet je:\n\n 	
 Wat er nodig is\n 	En hoe je het haalbaar en overzichtelijk houdt.\n\nMeld
  je aan en ontdek hoe je vanuit ISO 14001 eenvoudig de stap maakt naar een
  VSME-rapport.
ATTACH;FMTTYPE=image/jpeg:https://www.duurzaam-ondernemen.nl/wordpress/wp-
 content/uploads/2026/04/Banner-duurzaamondernemen.nl-ISO-x-VSME-1.png
CATEGORIES:Verslaggeving &amp; Transparantie
LOCATION:Online webinar\,  \,  \, Nederland
GEO:52.132633;5.291266
X-APPLE-STRUCTURED-LOCATION;VALUE=URI;X-ADDRESS= \,  \, Nederland;X-APPLE-R
 ADIUS=100;X-TITLE=Online webinar:geo:52.132633,5.291266
END:VEVENT
BEGIN:VTIMEZONE
TZID:Europe/Amsterdam
X-LIC-LOCATION:Europe/Amsterdam
BEGIN:DAYLIGHT
DTSTART:20260329T030000
TZOFFSETFROM:+0100
TZOFFSETTO:+0200
TZNAME:CEST
END:DAYLIGHT
END:VTIMEZONE
END:VCALENDAR