BEGIN:VCALENDAR
VERSION:2.0
PRODID:-//wp-events-plugin.com//7.2.3.1//EN
TZID:Europe/Amsterdam
X-WR-TIMEZONE:Europe/Amsterdam
BEGIN:VEVENT
UID:1950@duurzaam-ondernemen.nl
DTSTART;TZID=Europe/Amsterdam:20260205T110000
DTEND;TZID=Europe/Amsterdam:20260205T114500
DTSTAMP:20260115T142108Z
URL:https://www.duurzaam-ondernemen.nl/events/webinar-van-eutr-naar-eudr-e
 en-stapsgewijze-transitiehandleiding/
SUMMARY:Webinar 'Van EUTR naar EUDR: een stapsgewijze transitiehandleiding'
DESCRIPTION:Veel bedrijven die rapporteren onder de EU-houtverordening (EUT
 R) weten dat de EU-ontbossingsverordening (EUDR) eraan komt\, maar hebben 
 nog onvoldoende duidelijkheid over wat er in de praktijk moet veranderen e
 n wanneer.\n\nOp donderdag 5 februari om 11:00 uur CET organiseren de du
 urzaamheids­onderzoekers van Coolset een 45-minuten durende live sessie 
 met Q&amp\;A over hoe je bestaande EUTR-processen kunt aanpassen aan EUDR
 \, welke nieuwe data je moet verzamelen en hoe je tijdens de overgang comp
 liant blijft zonder dubbel werk te doen.\n\nIn dit webinar behandelen we:\
 n\n→ Welke EUTR-due-diligence-stappen je kunt hergebruiken onder EUDR\n\
 n→ Wat er nog ontbreekt: de belangrijkste datagaten (zoals geolocatie en
  ontbossingsstatus) en hoe je die opvult\n\n→ Hoe oogstdatums bepalen of
  EUTR of EUDR van toepassing is\, en wat dat betekent voor jouw zendingen\
 n\n→ Hoe je je leveranciers­workflows en documentatie aanpast om te vol
 doen aan de EUDR-vereisten in 2026/2027\n\nReserveer hier je plek →
ATTACH;FMTTYPE=image/jpeg:https://www.duurzaam-ondernemen.nl/wordpress/wp-
 content/uploads/2026/01/EUTR-EUDR.webp
CATEGORIES:Verslaggeving &amp; Transparantie,Voeding &amp; Landbouw
LOCATION:Online webinar\,  \,  \, Nederland
GEO:52.132633;5.291266
X-APPLE-STRUCTURED-LOCATION;VALUE=URI;X-ADDRESS= \,  \, Nederland;X-APPLE-R
 ADIUS=100;X-TITLE=Online webinar:geo:52.132633,5.291266
END:VEVENT
BEGIN:VTIMEZONE
TZID:Europe/Amsterdam
X-LIC-LOCATION:Europe/Amsterdam
BEGIN:STANDARD
DTSTART:20251026T020000
TZOFFSETFROM:+0200
TZOFFSETTO:+0100
TZNAME:CET
END:STANDARD
END:VTIMEZONE
END:VCALENDAR