BEGIN:VCALENDAR
VERSION:2.0
PRODID:-//wp-events-plugin.com//7.2.3.1//EN
TZID:Europe/Amsterdam
X-WR-TIMEZONE:Europe/Amsterdam
BEGIN:VEVENT
UID:2044@duurzaam-ondernemen.nl
DTSTART;TZID=Europe/Amsterdam:20260421T140000
DTEND;TZID=Europe/Amsterdam:20260421T150000
DTSTAMP:20260326T152259Z
URL:https://www.duurzaam-ondernemen.nl/events/webinar-van-co%e2%82%82-foot
 print-naar-een-reductiestrategie-met-science-based-targets/
SUMMARY:Webinar 'Van CO₂-footprint naar een reductiestrategie met science
 -based targets'
DESCRIPTION:Het stellen van wetenschappelijk onderbouwde doelstellingen is 
 cruciaal om zinvolle actie te ondernemen tegen klimaatverandering. Het bie
 dt een duidelijke\, geloofwaardige en meetbare weg voor bedrijven om hun b
 roeikasgasemissies te verminderen in lijn met de klimaatwetenschap. Krijg 
 je van uit jouw supply chain vragen over jouw CO₂-footprint\, reductiedo
 elen en of je bent aangesloten bij het SBTi? Schrijf je dan in voor dit we
 binar van Groenbalans.\nAGENDA\n\n 	De basis van science-based targets e
 n wat SBTi precies vereist\n 	Het verschil tussen korte- en langetermijndo
 elen\n 	Welke aanpakken er zijn om SBT’s te bepalen\, en welke past bij
  jouw organisatie\n 	De grootste uitdagingen én hoe je deze slim oplost\n
  	Wat een SBTi‑commitment betekent in de praktijk\n 	Een korte introduct
 ie tot FLAG‑emissies en de nieuwe GHG‑Protocol standaarden\n 	Klantcas
 es: inzichten\, keuzes en behaalde impact\n 	Ruimte voor jouw vragen in de
  Q&amp\;A\n\nSprekers: Maurice Even | Managing Director en Roeland Vervloe
 t | Senior sustainability adviseur | Groenbalans\n\nKosteloos aanmelden\n\
 n&nbsp\;
ATTACH;FMTTYPE=image/jpeg:https://www.duurzaam-ondernemen.nl/wordpress/wp-
 content/uploads/2026/03/LinkedIn-webinar-SBTi-21-april.png
CATEGORIES:Klimaat en Energie
LOCATION:Online webinar\,  \,  \, Nederland
GEO:52.132633;5.291266
X-APPLE-STRUCTURED-LOCATION;VALUE=URI;X-ADDRESS= \,  \, Nederland;X-APPLE-R
 ADIUS=100;X-TITLE=Online webinar:geo:52.132633,5.291266
END:VEVENT
BEGIN:VTIMEZONE
TZID:Europe/Amsterdam
X-LIC-LOCATION:Europe/Amsterdam
BEGIN:DAYLIGHT
DTSTART:20260329T030000
TZOFFSETFROM:+0100
TZOFFSETTO:+0200
TZNAME:CEST
END:DAYLIGHT
END:VTIMEZONE
END:VCALENDAR