BEGIN:VCALENDAR
VERSION:2.0
PRODID:-//wp-events-plugin.com//7.2.3.1//EN
TZID:Europe/Amsterdam
X-WR-TIMEZONE:Europe/Amsterdam
BEGIN:VEVENT
UID:1642@duurzaam-ondernemen.nl
DTSTART;TZID=Europe/Amsterdam:20250324T160000
DTEND;TZID=Europe/Amsterdam:20250324T170000
DTSTAMP:20250225T174225Z
URL:https://www.duurzaam-ondernemen.nl/events/webinar-update-eu-omnibus-pa
 ckage/
SUMMARY:Webinar: 'Update EU Omnibus Package'
DESCRIPTION:On Monday\, March 24\, 2025 KPMG organizes 'Webinar: Update EU
  Omnibus Package' and we would like to invite you to this webinar.\n\nThe
  European Commission recently published the Competitiveness Compass: a pla
 n to “steer the EU towards greater sustainable competitiveness”. One k
 ey element of this extensive plan is the simplification and harmonization 
 of EU regulation. Part of this Compass is the introduction of three Omnibu
 s Packages\, with the first aimed at ESG reporting and due diligence\, inc
 luding CSRD\, EU Taxonomy\, CSDDD and CBAM.\nWhile many companies are alre
 ady well underway in their reporting and broader ESG journeys\, this annou
 ncement naturally leads to many questions on what exactly will change\, an
 d how that impacts running and to be planned projects.\nAs we understand y
 our company will likely have many questions on this matter too\, we hereby
  invite you to our webinar “Update EU Omnibus Package\, the implications
  and impact on your business\, and what to do next.”\n\nSubject\nKey tak
 eaways of this online session are:\n\n 	What are the key elements in the S
 ustainability Omnibus Package?\n 	What is the expected impact on running p
 rojects\, and projects that have yet to start?\n 	What is the impact on th
 e broader sustainability agenda of Europe?\n 	What are next milestones com
 ing from the EU and what is their relevance to your project?\n 	What to do
  next?\n\nSpeakers\nVera Moll (Host)Director Reporting\, KPMG (Host)\nMarc
 o FrikkeePartner Reporting\, KPMG\nBrigitte CampfensDirector ESG advisory\
 , KPMG\nFaiza OulahsenAssociate Director ESG Advisory\, KPMG\n\nMore infor
 mation/register\n\nParticipation in this event is free of charge.\n\n
ATTACH;FMTTYPE=image/jpeg:https://www.duurzaam-ondernemen.nl/wordpress/wp-
 content/uploads/2025/02/unnamed-2025-02-25T183816.398.png
CATEGORIES:Duurzaamheidsprofessionals,Verslaggeving &amp; Transparantie
LOCATION:Online webinar\,  \,  \, Nederland
GEO:52.132633;5.291266
X-APPLE-STRUCTURED-LOCATION;VALUE=URI;X-ADDRESS= \,  \, Nederland;X-APPLE-R
 ADIUS=100;X-TITLE=Online webinar:geo:52.132633,5.291266
END:VEVENT
BEGIN:VTIMEZONE
TZID:Europe/Amsterdam
X-LIC-LOCATION:Europe/Amsterdam
BEGIN:STANDARD
DTSTART:20241027T020000
TZOFFSETFROM:+0200
TZOFFSETTO:+0100
TZNAME:CET
END:STANDARD
END:VTIMEZONE
END:VCALENDAR