BEGIN:VCALENDAR
VERSION:2.0
PRODID:-//wp-events-plugin.com//7.2.3.1//EN
TZID:Europe/Amsterdam
X-WR-TIMEZONE:Europe/Amsterdam
BEGIN:VEVENT
UID:2029@duurzaam-ondernemen.nl
DTSTART;TZID=Europe/Amsterdam:20260317T100000
DTEND;TZID=Europe/Amsterdam:20260317T110000
DTSTAMP:20260313T100448Z
URL:https://www.duurzaam-ondernemen.nl/events/webinar-understanding-the-su
 pply-demand-gap-choosing-high-quality-carbon-projects/
SUMMARY:Webinar 'Understanding the supply–demand gap & choosing high-qual
 ity carbon projects'
DESCRIPTION:Carbon projects have become a vital tool in building a sustaina
 ble economy\, enabling organisations and individuals to compensate for the
 ir unavoidable emissions by funding verified carbon removal and avoidance 
 projects worldwide. However\, the carbon market varies dramatically in qua
 lity\, and choosing the right project can make or break your compensation 
 plan. High quality carbon projects do not only remove or avoid CO2 but al
 so provide many co-benefits.\n\nUnderstanding what separates exceptional 
 projects from low-quality options is essential for anyone looking to make 
 a real impact. At the same time\, demand for verified carbon projects is 
 growing faster than supply\, creating a gap that can challenge organisatio
 ns seeking meaningful impact. Understanding this supply–demand gap\, a
 nd how it affects project availability\, pricing\, and selection\, is crit
 ical for building a credible offset portfolio and ensuring that investment
 s translate into real-world outcomes.\n\nChoosing the right project involv
 es evaluating several key factors\, which we will uncover.\n\nBeyond techn
 ical criteria\, the best projects demonstrate clear co-benefits for local
  communities and ecosystems\, creating positive ripple effects that extend
  far beyond carbon accounting.\n\nThis webinar by Green Earth will give yo
 u the knowledge to navigate the carbon market with confidence.\n\nWhether 
 you're a sustainability professional building a credible offset portfolio\
 , a business leader exploring climate commitments\, or simply curious abou
 t carbon projects\, you'll leave equipped to identify projects that deliv
 er genuine environmental and social impact while avoiding common pitfalls
  and false promises.\nAgenda\n01\nIntroduction\nLearn more about your host
 \, Green Earth\, and why carbon projects are in the spotlight.\n\n02\nCarb
 on project basics\nDiscover why carbon projects are critical for building 
 a sustainable economy and how they help organisations reach net zero.\n\n0
 3\nThe supply–demand gap in the carbon market\nExplore the growing deman
 d vs limited supply and how this gap affects project availability\, pricin
 g\, and selection.\n\n04\nThe fundamentals of high-quality carbon projects
 \nLearn what distinguishes high-quality projects from low-quality options 
 and how to assess projects for positive impacts on biodiversity and commun
 ity livelihoods.\n\n05\nEvaluating carbon projects\nLearn how to identify 
 warning signs of low-quality projects. Find out how to evaluate essential 
 factors and identify projects that deliver genuine sustainable impact.\n\n
 06\nPractical showcase\nExplore real projects making a tangible impact tod
 ay around the globe.\n\n07\nQ&amp\;A\nOpen session for participants to ask
  questions and discuss practical applications.\nHost &amp\; Speaker\nPedro
  Zimmer\, Head of Events and Resources &amp\; Wienke Schouwink\, Head of B
 usiness Development Green Earth\n\nMore information &amp\; registration
ATTACH;FMTTYPE=image/jpeg:https://www.duurzaam-ondernemen.nl/wordpress/wp-
 content/uploads/2026/03/webgreen.jpg
CATEGORIES:Klimaat en Energie
LOCATION:Online webinar\,  \,  \, Nederland
GEO:52.132633;5.291266
X-APPLE-STRUCTURED-LOCATION;VALUE=URI;X-ADDRESS= \,  \, Nederland;X-APPLE-R
 ADIUS=100;X-TITLE=Online webinar:geo:52.132633,5.291266
END:VEVENT
BEGIN:VTIMEZONE
TZID:Europe/Amsterdam
X-LIC-LOCATION:Europe/Amsterdam
BEGIN:STANDARD
DTSTART:20251026T020000
TZOFFSETFROM:+0200
TZOFFSETTO:+0100
TZNAME:CET
END:STANDARD
END:VTIMEZONE
END:VCALENDAR