BEGIN:VCALENDAR
VERSION:2.0
PRODID:-//wp-events-plugin.com//7.2.3.1//EN
TZID:Europe/Amsterdam
X-WR-TIMEZONE:Europe/Amsterdam
BEGIN:VEVENT
UID:1188@duurzaam-ondernemen.nl
DTSTART;TZID=Europe/Amsterdam:20240123T100000
DTEND;TZID=Europe/Amsterdam:20240123T103000
DTSTAMP:20240110T072457Z
URL:https://www.duurzaam-ondernemen.nl/events/webinar-trends-en-ontwikkeli
 ngen-duurzaamheid-en-energie-in-2024/
SUMMARY:Webinar 'Trends en ontwikkelingen duurzaamheid en energie in 2024'
DESCRIPTION:Er staat voor 2024 weer veel te gebeuren in duurzaamheidsland. 
 Bedrijven moeten zich voorbereiden op curtailment?\, netcongestie? en miss
 chien wel de CSRD? Allemaal termen waarvan je waarschijnlijk nog niet eerd
 er hebt gehoord maar die je ongetwijfeld in 2024 veel tegen zal komen.\n\n
 Nick van Moerkerk van De Duurzame Adviseurs organiseert daarom op 23 janua
 ri 2024 een kort maar krachtig webinar over al deze ontwikkelingen.\n\nWil
  jij er bij zijn meld je dan snel aan want we hebben maar plek voor 250 de
 elnemers.\n\nWat ik onder andere zal behandelen:\n·       Als je ge
 en actie onderneemt kan het zijn dat je moet betalen voor je zelf opgewekt
 e energie\;\n·       Waarom alle bedrijven in Nederland uiteindelij
 k te maken krijgen met de CSRD-wetgeving en niet alleen de grote bedrijven
 \;\n·       Hoe je geld kan verdienen met je laadpaal\;\n·    
    Waarom jouw energieverbruik de groei van je bedrijf kan belemmeren\;\
 n·       En nog meer praktische tips die je moet weten om succesvol
  te blijven ondernemen in 2024 en daarna.\n\nWe gaan razendsnel door alle 
 topics heen maar we weten hoe belangrijk dit is en daarom organiseren we i
 n februari van 2024 meerdere webinars over de verschillende belangrijke th
 ema’s voor bedrijven in 2024.\n\nGratis aanmelden onderaan deze pagina
ATTACH;FMTTYPE=image/jpeg:https://www.duurzaam-ondernemen.nl/wordpress/wp-
 content/uploads/2022/01/ladder.jpg
CATEGORIES:Klimaat en Energie
LOCATION:Online webinar\,  \,  \, Nederland
GEO:52.132633;5.291266
X-APPLE-STRUCTURED-LOCATION;VALUE=URI;X-ADDRESS= \,  \, Nederland;X-APPLE-R
 ADIUS=100;X-TITLE=Online webinar:geo:52.132633,5.291266
END:VEVENT
BEGIN:VTIMEZONE
TZID:Europe/Amsterdam
X-LIC-LOCATION:Europe/Amsterdam
BEGIN:STANDARD
DTSTART:20231029T020000
TZOFFSETFROM:+0200
TZOFFSETTO:+0100
TZNAME:CET
END:STANDARD
END:VTIMEZONE
END:VCALENDAR