BEGIN:VCALENDAR
VERSION:2.0
PRODID:-//wp-events-plugin.com//7.2.3.1//EN
TZID:Europe/Amsterdam
X-WR-TIMEZONE:Europe/Amsterdam
BEGIN:VEVENT
UID:2066@duurzaam-ondernemen.nl
DTSTART;TZID=Europe/Amsterdam:20260506T120000
DTEND;TZID=Europe/Amsterdam:20260506T130000
DTSTAMP:20260416T142735Z
URL:https://www.duurzaam-ondernemen.nl/events/webinar-transparantie-vrijwi
 llige-duurzaamheidsrapportage/
SUMMARY:Webinar: Transparantie & Vrijwillige Duurzaamheidsrapportage
DESCRIPTION:Eevery organiseert een Lunch Webinar: Transparantie &amp\; Vrij
 willige Duurzaamheidsrapportage\n\nSpeciaal voor bedrijven die vrijwillig 
 aan de slag willen met duurzaamheidsrapportage\, biedt de Voluntary Sustai
 nability Reporting Standard for VSME’s (VSME) een praktische en toeganke
 lijke aanpak. Deze Europese standaard helpt je om je duurzaamheidsinspanni
 ngen gestructureerd vast te leggen en daarmee heldere\, transparante inzic
 hten te geven in hoe jouw organisatie omgaat met milieu\, sociale thema’
 s en goed bestuur.\n\nTijdens ons lunch webinar nemen we je mee in:\n\n 	W
 at de vrijwillige duurzaamheidsrapportage betekent\n 	Hoe je met deze rapp
 ortage transparantie creëert richting klanten\, partners en medewerkers\n
  	Praktische handvatten om meteen zelf een betrouwbaar en inzichtelijk duu
 rzaamheidsrapport op te zetten\n\nWil je erbij zijn?\nMeld je vandaag nog 
 aan via de volgende link: https://lnkd.in/eDRrfXSx\n\nGratis deelname\, ma
 ar plekken zijn beperkt.\n\nMaak van je lunchpauze een uur vol duidelijke 
 inzichten én concrete stappen naar een toekomstbestendige organisatie.
ATTACH;FMTTYPE=image/jpeg:https://www.duurzaam-ondernemen.nl/wordpress/wp-
 content/uploads/2026/04/Untitled-800-x-460-px.png
CATEGORIES:Verslaggeving &amp; Transparantie
LOCATION:Online webinar\,  \,  \, Nederland
GEO:52.132633;5.291266
X-APPLE-STRUCTURED-LOCATION;VALUE=URI;X-ADDRESS= \,  \, Nederland;X-APPLE-R
 ADIUS=100;X-TITLE=Online webinar:geo:52.132633,5.291266
END:VEVENT
BEGIN:VTIMEZONE
TZID:Europe/Amsterdam
X-LIC-LOCATION:Europe/Amsterdam
BEGIN:DAYLIGHT
DTSTART:20260329T030000
TZOFFSETFROM:+0100
TZOFFSETTO:+0200
TZNAME:CEST
END:DAYLIGHT
END:VTIMEZONE
END:VCALENDAR