BEGIN:VCALENDAR
VERSION:2.0
PRODID:-//wp-events-plugin.com//7.2.3.1//EN
TZID:Europe/Amsterdam
X-WR-TIMEZONE:Europe/Amsterdam
BEGIN:VEVENT
UID:2072@duurzaam-ondernemen.nl
DTSTART;TZID=Europe/Amsterdam:20260507T110000
DTEND;TZID=Europe/Amsterdam:20260507T120000
DTSTAMP:20260423T154215Z
URL:https://www.duurzaam-ondernemen.nl/events/webinar-toekomstbestendig-on
 dernemen-met-de-csddd-en-omnibus/
SUMMARY:Webinar: Toekomstbestendig ondernemen met de CSDDD en Omnibus
DESCRIPTION:Wilt u als ondernemer voorbereid zijn op de CSDDD en de Omnibus
 -ontwikkelingen? En heeft u vragen over wat deze Europese regels betekenen
  voor uw bedrijf? Dan nodigt het MVO-steunpunt u graag uit om deel te neme
 n aan dit webinar.\n\nDeelname is gratis\, voertaal is Nederlands\n\n Het
  MVO-steunpunt voor bedrijven organiseert een serie webinars met praktisch
 e informatie en advies over internationaal MVO en due dilligence. De Euro
 pese regelgeving rondom duurzaam ondernemen ontwikkelt zich snel. Wat bete
 kenen de Corporate Sustainability Due Diligence Directive (CSDDD) en de 
 recente Omnibus-ontwikkelingen voor u als mkb’er? De wetgeving geldt voo
 ral voor grote bedrijven\, maar de gevolgen ervan kunnen doorwerken in de 
 hele keten. Ook in uw mkb-bedrijf in Nederland.\n Voor wie?\nHet MVO-steu
 npunt heeft dit webinar speciaal ontwikkeld voor mensen in het mkb die zic
 h bezighouden met duurzaamheid\, inkoop\, strategie of het naleven van reg
 elgeving en die willen begrijpen wat er op hen afkomt.\n Wat kunt u verwa
 chten?\n\n 	Een heldere uitleg over CSDDD: Wat houdt de richtlijn in? Hoe 
 past u CSDDD toe in uw bedrijf?\n 	De gevolgen van de Omnibus-voorstellen:
  Wat verandert er voor ondernemers in het mkb?\n 	Wat betekenen deze ontwi
 kkelingen concreet voor mkb-bedrijven in Nederland?\n 	Praktische handvatt
 en om aan de slag te gaan met due diligence.\n 	Ruimte voor vragen.\n\nWaa
 rom deelnemen?\nGrote bedrijven krijgen te maken met strengere verplichtin
 gen en geven deze eisen steeds vaker door aan hun leveranciers en partners
 . Door nu inzicht te krijgen in deze verplichtingen\, kunt u tijdig inspel
 en op deze ontwikkelingen\, kansen benutten en risico's beperken.\nSpreker
 s\n\n 	Jesse Bloemendaal\, Senior Beleidsmedewerker van het Ministerie van
  Buitenlandse Zaken\n 	Jim Pardon\, Sustainability Manager van Luiten Food
 \n 	Eva Smulders\, Programmacoördinator van het MVO-steunpunt\, onderdeel
  van RVO\n\nAanmelden\nMeld u aan en bereid uw organisatie voor op de toek
 omst door maatschappelijk verantwoord te ondernemen.
ATTACH;FMTTYPE=image/jpeg:https://www.duurzaam-ondernemen.nl/wordpress/wp-
 content/uploads/2026/04/MVO-webinar-en-events.png
CATEGORIES:Duurzaamheidsprofessionals,Verslaggeving &amp; Transparantie
LOCATION:Online webinar\,  \,  \, Nederland
GEO:52.132633;5.291266
X-APPLE-STRUCTURED-LOCATION;VALUE=URI;X-ADDRESS= \,  \, Nederland;X-APPLE-R
 ADIUS=100;X-TITLE=Online webinar:geo:52.132633,5.291266
END:VEVENT
BEGIN:VTIMEZONE
TZID:Europe/Amsterdam
X-LIC-LOCATION:Europe/Amsterdam
BEGIN:DAYLIGHT
DTSTART:20260329T030000
TZOFFSETFROM:+0100
TZOFFSETTO:+0200
TZNAME:CEST
END:DAYLIGHT
END:VTIMEZONE
END:VCALENDAR