BEGIN:VCALENDAR
VERSION:2.0
PRODID:-//wp-events-plugin.com//7.2.3.1//EN
TZID:Europe/Amsterdam
X-WR-TIMEZONE:Europe/Amsterdam
BEGIN:VEVENT
UID:1934@duurzaam-ondernemen.nl
DTSTART;TZID=Europe/Amsterdam:20260217T100000
DTEND;TZID=Europe/Amsterdam:20260217T110000
DTSTAMP:20260130T140213Z
URL:https://www.duurzaam-ondernemen.nl/events/webinar-sustainability-strat
 egy/
SUMMARY:Webinar Sustainability Strategy
DESCRIPTION:A sustainability strategy becomes complex fast due to increasin
 g regulation\, themes and expectations. In our webinar\, we show you how t
 o bring sustainability and ESG back to the core of your organisation and c
 larify where your true ambition lies.\nWhat key insights you gain\nHow to:
 \n\n 	shift from compliance to creating positive impact\, internally ánd 
 externally\;\n 	learn from real-world examples of organisations transition
 ing from unsustainable to regenerative business models\;\n 	 formulate a 
 clear and widely supported purpose or mission statement\;\n 	 make well-f
 ounded choices about what is truly material for your organisation.\n\nWho 
 is this webinar for?\n\n 	Board members and executives: for those who want
  to use sustainability strategically and look beyond regulation and compli
 ance.\n 	Sustainability &amp\; ESG managers: for professionals seeking cla
 rity and focus in complex sustainability challenges.\n 	Strategy and commu
 nications leaders: for those who want to connect purpose\, materiality and
  positioning into a clear narrative and concrete choices.\n\nSpread the wo
 rd and join us on the 17th!\n\nInteresting? Join our free online webinar o
 n ESG Strategy!\nSpeakers\n\n 	Eva Schouten\, Senior Sustainability Consu
 ltant The Terrace\nEva is our expert in supply chains and transparancy\, a
 nd she is always motivated to simplify the complex and convert a clients' 
 sustainability strategy into an approach that connects stakeholders.\n 	An
 na Vlassov\, Consultant The Terrace\nAnna is an experienced sustainability
  consultant committed to empowering companies in addressing societal chall
 enges. She has helped multiple businesses transcend sustainability boundar
 ies and fortify their future through tailored and innovative strategies.\n
ATTACH;FMTTYPE=image/jpeg:https://www.duurzaam-ondernemen.nl/wordpress/wp-
 content/uploads/2025/12/B-Corp-session-LinkedIn-2.png
CATEGORIES:Duurzaamheidsprofessionals
LOCATION:Online webinar\,  \,  \, Nederland
GEO:52.132633;5.291266
X-APPLE-STRUCTURED-LOCATION;VALUE=URI;X-ADDRESS= \,  \, Nederland;X-APPLE-R
 ADIUS=100;X-TITLE=Online webinar:geo:52.132633,5.291266
END:VEVENT
BEGIN:VTIMEZONE
TZID:Europe/Amsterdam
X-LIC-LOCATION:Europe/Amsterdam
BEGIN:STANDARD
DTSTART:20251026T020000
TZOFFSETFROM:+0200
TZOFFSETTO:+0100
TZNAME:CET
END:STANDARD
END:VTIMEZONE
END:VCALENDAR