BEGIN:VCALENDAR
VERSION:2.0
PRODID:-//wp-events-plugin.com//7.2.3.1//EN
TZID:Europe/Amsterdam
X-WR-TIMEZONE:Europe/Amsterdam
BEGIN:VEVENT
UID:1879@duurzaam-ondernemen.nl
DTSTART;TZID=Europe/Amsterdam:20251118T160000
DTEND;TZID=Europe/Amsterdam:20251118T170000
DTSTAMP:20251023T063426Z
URL:https://www.duurzaam-ondernemen.nl/events/webinar-sustainability-repor
 ting-update-omnibus-status-and-next-steps/
SUMMARY:Webinar Sustainability Reporting update: Omnibus status and next st
 eps
DESCRIPTION:During the past months\, much has happened in the sustainabilit
 y reporting space. The exposure drafts for the ESRS have been published an
 d even though not final\, they present a direction of where the final repo
 rting requirements might be heading. Still\, uncertainty remains\, for exa
 mple regarding the scoping criteria and final date of application.\nThe un
 clarity around these issues poses challenges\, yet also opens up the discu
 ssion to the why of reporting (and assurance). Regardless of whether compa
 nies have already published their first CSRD report\, are in the midst of 
 the DMA process\, and/or making up their minds how to proceed\, decisions 
 need to be made on the roadmap\, the desired end -state and priorities.\n\
 nSubject\nKPMG is hosting the webinar “Omnibus Status and Next Steps” 
 which will cover the important regulatory directions and milestones for th
 e CSRD\, interconnectivity with ISSB\, potential choices to consider and h
 ow this might affect the conversations with your assurance provider.\nVera
  Moll (Partner\, Sustainability Reporting. KPMG) will lead a conversation 
 with sustainability reporting and assurance experts. We will explore:\n\n\
 n 	What is the current direction and status of the Omnibus proposal\, and 
 why does this matter to you\, as a preparer?\n 	What are the key takeaways
  from comments on the proposed simplified ESRS?\n 	What are considerations
  for companies that can apply the VSME standard?\n 	What is the value of a
 ssurance beyond compliance?\n\nWe invite you to join us live and ask your 
 questions to the panel!\n\nSpeakers\nVera Moll\, HostPartner\, Sustainabil
 ity Reporting\, KPMG\nMarco FrikkeePartner\, Sustainability Reporting &amp
 \; Assurance\, KPMG\nMark VaessenPartner\, Global Head of Corporate &amp\;
  Sustainability Reporting\, KPMG\nTristan HelslootPartner\, Sustainability
  Assurance\, KPMG\nSign up
ATTACH;FMTTYPE=image/jpeg:https://www.duurzaam-ondernemen.nl/wordpress/wp-
 content/uploads/2025/10/wb.jpg
CATEGORIES:Verslaggeving &amp; Transparantie
LOCATION:Online webinar\,  \,  \, Nederland
GEO:52.132633;5.291266
X-APPLE-STRUCTURED-LOCATION;VALUE=URI;X-ADDRESS= \,  \, Nederland;X-APPLE-R
 ADIUS=100;X-TITLE=Online webinar:geo:52.132633,5.291266
END:VEVENT
BEGIN:VTIMEZONE
TZID:Europe/Amsterdam
X-LIC-LOCATION:Europe/Amsterdam
BEGIN:STANDARD
DTSTART:20251026T020000
TZOFFSETFROM:+0200
TZOFFSETTO:+0100
TZNAME:CET
END:STANDARD
END:VTIMEZONE
END:VCALENDAR