BEGIN:VCALENDAR
VERSION:2.0
PRODID:-//wp-events-plugin.com//7.2.3.1//EN
TZID:Europe/Amsterdam
X-WR-TIMEZONE:Europe/Amsterdam
BEGIN:VEVENT
UID:1866@duurzaam-ondernemen.nl
DTSTART;TZID=Europe/Amsterdam:20251203T140000
DTEND;TZID=Europe/Amsterdam:20251203T150000
DTSTAMP:20251017T102651Z
URL:https://www.duurzaam-ondernemen.nl/events/webinar-smart-energy-network
 s-grid-solutions/
SUMMARY:Webinar 'Smart Energy Networks & Grid Solutions'
DESCRIPTION:\n\nSecure\, affordable\, and flexible energy: how smart networ
 ks provide solutions. Join our webinar to see how TNO bridges offshore an
 d onshore networks for a resilient future-proof energy system.\n\n\nFuture
 -proof energy system\nThe energy transition in the Netherlands is accelera
 ting\, but traditional grid reinforcement cannot keep up with the growing 
 pressure on the electricity network. Congestion\, technological limitation
 s\, and fragmented planning threaten reliability\, delay connections\, and
  increase costs. The pressure on our onshore grid is growing.\n\nTNO has b
 uilt a leading position in offshore system innovation. Now\, the focus shi
 fts onshore: developing smart\, flexible\, and reliable energy networks th
 at connect generation at sea with demand on land\, laying the foundation f
 or a future-proof energy system.\nJoin our webinar\nJoin our webinar to ex
 plore how smart energy networks can offer a coordinated\, system-level res
 ponse to today’s grid challenges.\n\nDiscover how TNO’s innovations ar
 e bridging offshore and onshore systems\, strengthening the backbone of to
 morrow’s sustainable energy supply. Learn how integrated grid solutions 
 can reduce congestion\, unlock capacity\, and ensure a secure\, affordable
 \, and resilient energy future.\n\nKey questions:\n\n 	How can grid conges
 tion be reduced and short-term capacity unlocked?\n 	What is the potential
  of hybrid systems and sector coupling to stabilize the grid from the supp
 ly side?\n 	How can new technologies support the balance between supply an
 d demand and improve market coordination?\n 	Which governance and investme
 nt frameworks are needed to enable scalable\, smart energy infrastructure?
 \n\nSpeakers\nHost: Maarten Bouwhuis\n\nMaarten Bouwhuis is an experienced
  moderator and presenter who brings energy and clarity to complex societal
  and technological topics. With a strong background in journalism and publ
 ic debate\, he connects experts\, policymakers\, and industry leaders in m
 eaningful conversations about the energy transition.\n\nIn this webinar\, 
 Maarten guides the discussion on smart energy networks and the innovations
  needed to make the Dutch energy system reliable\, affordable\, and future
 -proof.\n\nIratxe Gonzalez-Aparicio\nProgramme Manager Energy System Trans
 formation\, TNO\n\nMartijn van Berlo\nMarket Development Onshore Wind\, Va
 ttenfall\n\nJiajun Cen\nAquabattery\, Storage Technology Developer\n\nRob 
 Kreiter\nManaging Director\, TKI Energie &amp\; Industrie\nIndependent ene
 rgy innovation strategist\, focussing on innovation and implementation str
 ategies for sustainable energy technologies.\nWho should attend?\nThis web
 inar is designed for grid operators\, government bodies\, energy developer
 s\, sea ports\, and anyone interested in innovative energy solutions.\n\nB
 e part of the conversation\n\nSecure your spot and join us as we explore t
 he innovations shaping the future of energy infrastructure in the Netherla
 nds and beyond.\n\n
ATTACH;FMTTYPE=image/jpeg:https://www.duurzaam-ondernemen.nl/wordpress/wp-
 content/uploads/2025/10/1760693919278.jpg
CATEGORIES:Klimaat en Energie
LOCATION:Online webinar\,  \,  \, Nederland
GEO:52.132633;5.291266
X-APPLE-STRUCTURED-LOCATION;VALUE=URI;X-ADDRESS= \,  \, Nederland;X-APPLE-R
 ADIUS=100;X-TITLE=Online webinar:geo:52.132633,5.291266
END:VEVENT
BEGIN:VTIMEZONE
TZID:Europe/Amsterdam
X-LIC-LOCATION:Europe/Amsterdam
BEGIN:STANDARD
DTSTART:20251026T020000
TZOFFSETFROM:+0200
TZOFFSETTO:+0100
TZNAME:CET
END:STANDARD
END:VTIMEZONE
END:VCALENDAR