BEGIN:VCALENDAR
VERSION:2.0
PRODID:-//wp-events-plugin.com//7.2.3.1//EN
TZID:Europe/Amsterdam
X-WR-TIMEZONE:Europe/Amsterdam
BEGIN:VEVENT
UID:1309@duurzaam-ondernemen.nl
DTSTART;TZID=Europe/Amsterdam:20240424T150000
DTEND;TZID=Europe/Amsterdam:20240424T160000
DTSTAMP:20240415T130250Z
URL:https://www.duurzaam-ondernemen.nl/events/webinar-revolutionizing-esg-
 reporting/
SUMMARY:Webinar: Revolutionizing ESG Reporting
DESCRIPTION:\n\nVan nieuwe rapportage-eisen zoals de CSRD tot de toegenomen
  publieke aandacht voor de milieu- en sociale impact van bedrijfsactivitei
 ten\, organisaties hebben nog nooit zo onder druk gestaan om nauwkeurig te
  rapporteren over hun ESG-prestaties. Quentic\, powered by AMCS en een gas
 tspreker van Microsoft bespreken hoe technologie de sleutel is tot het nav
 igeren door Europa's veranderende ESG-rapportagevereisten en het meten en 
 beheren van de impact.\nOver het webinar:\nOnze deskundige sprekers zullen
  tijdens dit Engelstalige webinar inzichten delen over het gebruik van inn
 ovatieve technologieën en digitale platforms om rapportageprocessen te st
 roomlijnen\, de nauwkeurigheid van gegevens te garanderen en belanghebbend
 en te betrekken bij uw duurzaamheidsprogramma.\nWaarom deelnemen?\n\n 	Kri
 jg meer inzicht in het veranderende Europese landschap voor duurzaamheidsr
 apportage\;\n 	Ontdek praktische strategieën voor het optimaliseren van E
 SG-rapportageprocessen en het stimuleren van duurzaam ondernemen\;\n 	Leer
  van marktleiders die baanbrekend werk verrichten op het gebied van digita
 le innovatie in duurzaamheidsmanagement\;\n 	Netwerken met collega's en pr
 ofessionals die zich inzetten voor duurzame praktijken in Europa.\n\nVraag
  &amp\; Antwoord sessie:\nKom in contact met onze ESG-experts tijdens een 
 dynamische vraag- en antwoordsessie na afloop van de presentatie en leer m
 eer over hoe technologie uw duurzaamheidsprogramma kan ondersteunen.\n\n\n
  \nMeer informatie/aanmelden
ATTACH;FMTTYPE=image/jpeg:https://www.duurzaam-ondernemen.nl/wordpress/wp-
 content/uploads/2024/04/Banner_WBR_Revoltionizing-ESG-Reporting_1200x600-c
 opy.jpg
CATEGORIES:Verslaggeving &amp; Transparantie
LOCATION:Online webinar\,  \,  \, Nederland
GEO:52.132633;5.291266
X-APPLE-STRUCTURED-LOCATION;VALUE=URI;X-ADDRESS= \,  \, Nederland;X-APPLE-R
 ADIUS=100;X-TITLE=Online webinar:geo:52.132633,5.291266
END:VEVENT
BEGIN:VTIMEZONE
TZID:Europe/Amsterdam
X-LIC-LOCATION:Europe/Amsterdam
BEGIN:DAYLIGHT
DTSTART:20240331T030000
TZOFFSETFROM:+0100
TZOFFSETTO:+0200
TZNAME:CEST
END:DAYLIGHT
END:VTIMEZONE
END:VCALENDAR