BEGIN:VCALENDAR
VERSION:2.0
PRODID:-//wp-events-plugin.com//7.2.3.1//EN
TZID:Europe/Amsterdam
X-WR-TIMEZONE:Europe/Amsterdam
BEGIN:VEVENT
UID:1207@duurzaam-ondernemen.nl
DTSTART;TZID=Europe/Amsterdam:20240208T100000
DTEND;TZID=Europe/Amsterdam:20240208T104500
DTSTAMP:20240117T064517Z
URL:https://www.duurzaam-ondernemen.nl/events/webinar-rapportageverplichti
 ng-werkgebonden-personenmobiliteit-wpm/
SUMMARY:Webinar Rapportageverplichting Werkgebonden Personenmobiliteit (WPM
 )
DESCRIPTION:Joris Smulders (CEO en Co-Founder van Fynch Mobility) gaat je l
 aten zien hoe jij de mobiliteit binnen jouw onderneming duurzamer en gezon
 der kunt maken én kunt voldoen aan alle wet- en regelgeving.\n\nAanmelden
ATTACH;FMTTYPE=image/jpeg:https://www.duurzaam-ondernemen.nl/wordpress/wp-
 content/uploads/2024/01/Fynch-Webinar-Duurzame-mobiliteit-Rapportageverpli
 chting-WPM_8-februari-2024.png.png
CATEGORIES:Mobiliteit en Transport/Logistiek,Verslaggeving &amp;
 Transparantie
LOCATION:Online webinar\,  \,  \, Nederland
GEO:52.132633;5.291266
X-APPLE-STRUCTURED-LOCATION;VALUE=URI;X-ADDRESS= \,  \, Nederland;X-APPLE-R
 ADIUS=100;X-TITLE=Online webinar:geo:52.132633,5.291266
END:VEVENT
BEGIN:VTIMEZONE
TZID:Europe/Amsterdam
X-LIC-LOCATION:Europe/Amsterdam
BEGIN:STANDARD
DTSTART:20231029T020000
TZOFFSETFROM:+0200
TZOFFSETTO:+0100
TZNAME:CET
END:STANDARD
END:VTIMEZONE
END:VCALENDAR