BEGIN:VCALENDAR
VERSION:2.0
PRODID:-//wp-events-plugin.com//7.2.3.1//EN
TZID:Europe/Amsterdam
X-WR-TIMEZONE:Europe/Amsterdam
BEGIN:VEVENT
UID:1967@duurzaam-ondernemen.nl
DTSTART;TZID=Europe/Amsterdam:20260318T100000
DTEND;TZID=Europe/Amsterdam:20260318T110000
DTSTAMP:20260126T121545Z
URL:https://www.duurzaam-ondernemen.nl/events/webinar-product-carbon-footp
 rints-efficient-opschalen/
SUMMARY:Webinar 'Product Carbon Footprints efficiënt opschalen'
DESCRIPTION:Meer impact met minder inspanning door PCF@Scale\n\nProduct Car
 bon Footprints (PCF’s) worden steeds vaker een marktvereiste. Veel lever
 anciers voelen de druk van hun klanten om de CO₂-voetafdruk van hun prod
 ucten te berekenen. Tegelijkertijd nemen de wettelijke eisen aan datakwali
 teit toe. Ons antwoord op deze twee trends zijn opgeschaalde PCF’s met e
 en hoge datakwaliteit. Met onze nieuwe AI-gebaseerde platformoplossing kun
  je PCF’s berekenen voor je volledige productportfolio op SKU-niveau en 
 direct cradle-to-gate-resultaten verkrijgen. Dit verlaagt de kosten en tij
 d aanzienlijk\, terwijl tegelijkertijd een nog grotere impact wordt bereik
 t.\n\nIn dit webinar presenteert ClimatePartner deze nieuwe oplossing op o
 ns platform voor het eerst. Je krijgt een live demo waarin we de functiona
 liteiten van de oplossing laten zien\n\nGratis aanmelden webinar Product C
 arbon Footprints efficiënt opschalen
ATTACH;FMTTYPE=image/jpeg:https://www.duurzaam-ondernemen.nl/wordpress/wp-
 content/uploads/2026/01/PCF@Scale_Maart2026.jpg
CATEGORIES:Klimaat en Energie
LOCATION:Online webinar\,  \,  \, Nederland
GEO:52.132633;5.291266
X-APPLE-STRUCTURED-LOCATION;VALUE=URI;X-ADDRESS= \,  \, Nederland;X-APPLE-R
 ADIUS=100;X-TITLE=Online webinar:geo:52.132633,5.291266
END:VEVENT
BEGIN:VTIMEZONE
TZID:Europe/Amsterdam
X-LIC-LOCATION:Europe/Amsterdam
BEGIN:STANDARD
DTSTART:20251026T020000
TZOFFSETFROM:+0200
TZOFFSETTO:+0100
TZNAME:CET
END:STANDARD
END:VTIMEZONE
END:VCALENDAR