BEGIN:VCALENDAR
VERSION:2.0
PRODID:-//wp-events-plugin.com//7.2.3.1//EN
TZID:Europe/Amsterdam
X-WR-TIMEZONE:Europe/Amsterdam
BEGIN:VEVENT
UID:2004@duurzaam-ondernemen.nl
DTSTART;TZID=Europe/Amsterdam:20260311T110000
DTEND;TZID=Europe/Amsterdam:20260311T114500
DTSTAMP:20260220T090505Z
URL:https://www.duurzaam-ondernemen.nl/events/webinar-ppwr-for-importers-a
 nd-distributors/
SUMMARY:Webinar PPWR for importers and distributors
DESCRIPTION:PPWR introduceert nieuwe verplichtingen voor bedrijven die verp
 akte goederen op de EU-markt brengen. Voor importeurs en distributeurs is 
 het moeilijkste niet het begrijpen van de regelgeving – maar weten waarv
 oor je in de praktijk verantwoordelijk bent\, welke documentatie je moet b
 ijhouden\, en hoe je consistente gegevens van leveranciers krijgt zonder e
 indeloos achter ze aan te gaan.\n\nOp 11 maart om 11:00 CET organiseert he
 t PPWR-onderzoeksteam van Coolset een live sessie van 45 minuten waarin 
 PPWR wordt uitgelegd vanuit het perspectief van de importeur en distribute
 ur. Je vertrekt met een helder beeld van waar jouw verantwoordelijkheid be
 gint en eindigt\, welke verpakkingen en producten binnen de reikwijdte val
 len\, en welke specifieke leveranciersinformatie je nodig hebt om complian
 t en auditklaar te blijven.\n\nWat je leert:\n\n→ Wat PPWR betekent voor
  importeurs en distributeurs\, inclusief de verantwoordelijkheden die je n
 iet kunt uitbesteden\n\n→ De verpakkingsgegevens die je per SKU nodig he
 bt om een volledig materiaaloverzicht op te stellen\, materiaalsoorten\, g
 ewichten\, onderdelen en traceerbaarheid\n\n→ Wat een volledige Conformi
 teitsverklaring bevat\n\n→ Hoe je gegevensverzoeken aan leveranciers str
 uctureert zodat inzendingen volledig en vergelijkbaar terugkomen\n\n→ Ho
 e je klaar blijft voor EPR-rapportage\, inspecties door bevoegde instantie
 s en interne beoordelingen\n\nDeze sessie is relevant voor compliance mana
 gers\, specialisten op het gebied van regelgevingszaken en supply chain-te
 ams bij EU-importeurs en distributeurs die PPWR-naleving beheren over port
 folio's met meerdere leveranciers.\n\nReserveer je plek →
ATTACH;FMTTYPE=image/jpeg:https://www.duurzaam-ondernemen.nl/wordpress/wp-
 content/uploads/2026/02/PPWR-requirements.webp
CATEGORIES:Duurzaamheidsprofessionals,Verslaggeving &amp; Transparantie
LOCATION:Online webinar\,  \,  \, Nederland
GEO:52.132633;5.291266
X-APPLE-STRUCTURED-LOCATION;VALUE=URI;X-ADDRESS= \,  \, Nederland;X-APPLE-R
 ADIUS=100;X-TITLE=Online webinar:geo:52.132633,5.291266
END:VEVENT
BEGIN:VTIMEZONE
TZID:Europe/Amsterdam
X-LIC-LOCATION:Europe/Amsterdam
BEGIN:STANDARD
DTSTART:20251026T020000
TZOFFSETFROM:+0200
TZOFFSETTO:+0100
TZNAME:CET
END:STANDARD
END:VTIMEZONE
END:VCALENDAR