BEGIN:VCALENDAR
VERSION:2.0
PRODID:-//wp-events-plugin.com//7.2.3.1//EN
TZID:Europe/Amsterdam
X-WR-TIMEZONE:Europe/Amsterdam
BEGIN:VEVENT
UID:1886@duurzaam-ondernemen.nl
DTSTART;TZID=Europe/Amsterdam:20251113T110000
DTEND;TZID=Europe/Amsterdam:20251113T120000
DTSTAMP:20251030T081840Z
URL:https://www.duurzaam-ondernemen.nl/events/webinar-ontdek-hoe-ai-en-aut
 omatisering-uw-esg-management-naar-een-hoger-niveau-tillen/
SUMMARY:Webinar: Ontdek hoe AI en automatisering uw ESG-management naar een
  hoger niveau tillen!
DESCRIPTION:Als duurzaamheidsprofessional weet u als geen ander hoe complex
  en tijdrovend ESG-rapportage en data-analyse kan zijn. Hoe kunt u technol
 ogie inzetten om processen te versnellen en tegelijkertijd de kwaliteit en
  inzichtelijkheid van uw rapportages te verbeteren?\n\nMeld u aan voor het
  gratis\, internationaal Engelstalige webinar ‘AI &amp\; Automation in E
 SG Management’ en ontdek hoe kunstmatige intelligentie en automatisering
  een gamechanger kunnen zijn binnen uw ESG-strategie.\n\nWat kunt u verwac
 hten?\n\n 	Praktische toepassingen van AI binnen ESG-rapportages\n 	Voorbe
 elden van succesvolle automatisering in duurzaamheidsmanagement\n 	Tips om
  data-efficiëntie en compliance te verbeteren\n 	Interactieve sessie met 
 ruimte voor al uw vragen\n\nOf u nu ESG-processen wilt optimaliseren of op
  zoek bent naar nieuwe technologische oplossingen\, dit webinar biedt waar
 devolle inzichten om uw duurzaamheidsdoelen efficiënter te realiseren.\n\
 nMeer informatie/aanmelden: https://bit.ly/4oJQoIC
ATTACH;FMTTYPE=image/jpeg:https://www.duurzaam-ondernemen.nl/wordpress/wp-
 content/uploads/2025/10/AIAutomation-in-ESG.jpeg
CATEGORIES:Duurzaamheidsprofessionals,Verslaggeving &amp; Transparantie
LOCATION:Online webinar\,  \,  \, Nederland
GEO:52.132633;5.291266
X-APPLE-STRUCTURED-LOCATION;VALUE=URI;X-ADDRESS= \,  \, Nederland;X-APPLE-R
 ADIUS=100;X-TITLE=Online webinar:geo:52.132633,5.291266
END:VEVENT
BEGIN:VTIMEZONE
TZID:Europe/Amsterdam
X-LIC-LOCATION:Europe/Amsterdam
BEGIN:STANDARD
DTSTART:20251026T020000
TZOFFSETFROM:+0200
TZOFFSETTO:+0100
TZNAME:CET
END:STANDARD
END:VTIMEZONE
END:VCALENDAR