BEGIN:VCALENDAR
VERSION:2.0
PRODID:-//wp-events-plugin.com//7.2.3.1//EN
TZID:Europe/Amsterdam
X-WR-TIMEZONE:Europe/Amsterdam
BEGIN:VEVENT
UID:1190@duurzaam-ondernemen.nl
DTSTART;TZID=Europe/Amsterdam:20240227T100000
DTEND;TZID=Europe/Amsterdam:20240227T110000
DTSTAMP:20240110T072840Z
URL:https://www.duurzaam-ondernemen.nl/events/webinar-nieuwe-ontwikkelinge
 n-corparate-sustainability-reporting-directive-csrd/
SUMMARY:Webinar 'Nieuwe ontwikkelingen Corparate Sustainability Reporting D
 irective (CSRD)'
DESCRIPTION:De Duurzame Adviseurs nodigt je uit voor het webinar over de Co
 rporate Sustainability Reporting Directive (CSRD). Dit webinar is een verv
 olg op onze eerdere CSRD webinars met diverse nieuwe inzichten die Bas de 
 Gooijer en Anouk de Leer graag met jullie delen.\n\nDe CSRD is een belangr
 ijke ontwikkeling op het gebied van duurzaamheidsrapportage en zal gevolge
 n hebben voor diverse bedrijven in Nederland en Europa. Tijdens dit webina
 r zullen Anouk en Bas je informeren over de belangrijkste aspecten van de 
 CSRD en wat dit precies betekent voor bedrijven en hun stakeholders.\n\nHi
 er zijn enkele onderwerpen die aan bod zullen komen:\n1.         
   Wat is de CSRD?\n2.           Uitleg over de belangrijkste ve
 randeringen in de ESRS-richtlijnen en wat dit voor bedrijven betekent\n3.
            De rol van accountants en assurance bij CSRD-rapporta
 ges\n4.           Praktische tips voor bedrijven om zich klaar t
 e stomen voor de CSRD\n\nHet webinar zal interactief zijn\, met de mogelij
 kheid om vragen te stellen en inzichten te delen met de sprekers en medede
 elnemers. We moedigen iedereen aan om deel te nemen en deze gelegenheid te
  benutten om meer te weten te komen over de CSRD en de gevolgen ervan voor
  de bedrijfswereld.\n\nGratis aanmelden onderaan deze pagina
ATTACH;FMTTYPE=image/jpeg:https://www.duurzaam-ondernemen.nl/wordpress/wp-
 content/uploads/2022/01/ladder.jpg
CATEGORIES:Verslaggeving &amp; Transparantie
LOCATION:Online webinar\,  \,  \, Nederland
GEO:52.132633;5.291266
X-APPLE-STRUCTURED-LOCATION;VALUE=URI;X-ADDRESS= \,  \, Nederland;X-APPLE-R
 ADIUS=100;X-TITLE=Online webinar:geo:52.132633,5.291266
END:VEVENT
BEGIN:VTIMEZONE
TZID:Europe/Amsterdam
X-LIC-LOCATION:Europe/Amsterdam
BEGIN:STANDARD
DTSTART:20231029T020000
TZOFFSETFROM:+0200
TZOFFSETTO:+0100
TZNAME:CET
END:STANDARD
END:VTIMEZONE
END:VCALENDAR