BEGIN:VCALENDAR
VERSION:2.0
PRODID:-//wp-events-plugin.com//7.2.3.1//EN
TZID:Europe/Amsterdam
X-WR-TIMEZONE:Europe/Amsterdam
BEGIN:VEVENT
UID:1639@duurzaam-ondernemen.nl
DTSTART;TZID=Europe/Amsterdam:20250313T160000
DTEND;TZID=Europe/Amsterdam:20250313T170000
DTSTAMP:20250224T134220Z
URL:https://www.duurzaam-ondernemen.nl/events/webinar-navigate-the-realiti
 es-of-eudr-compliance-with-industry-experts/
SUMMARY:Webinar 'Navigate the Realities of EUDR Compliance with Industry Ex
 perts'
DESCRIPTION:Are you struggling to turn EUDR (EU Deforestation Regulation) c
 ompliance requirements into practical\, day-to-day workflows? Join us for 
 an exclusive webinar where sustainability leaders from Volcafe\, Meridia\,
  and Passionfruit share their expertise on data collection\, supply chain 
 transparency\, and managing customer demands in real time.\n\nWho Should A
 ttend? If you're a sustainability or procurement professional navigating t
 he complexities of EUDR in commodity sectors\, this webinar is designed fo
 r you. Whether you're dealing with field data collection\, supplier questi
 onnaires\, or evolving customer requests\, we will provide actionable stra
 tegies to help streamline your processes.\nWhat You’ll Learn:\n\n 	How t
 o efficiently collect and verify field data for real-time EUDR compliance.
 \n 	Best practices for managing EUDR knowledge across teams within your or
 ganization.\n 	Practical approaches to handling supplier questionnaires\, 
 updated codes of conduct\, and customer inquiries with a unified company v
 oice.\n 	Real-world insights from Volcafe’s experience in managing EUDR 
 compliance across a vast network of suppliers and customers.\n\nAgenda:\n\
 n 	 Expert Insights with Maikel Fontein &amp\; Thomas Vaassen (20-25 min)\
 n\n\n 	Do’s and don’ts for verifying field data in real time.\n 	Strat
 egies for integrating EUDR knowledge across different departments.\n 	Tips
  for handling compliance-related documentation and customer requests.\n\n\
 n 	 Volcafe Success Stories (15 min)\n\n\n 	Featuring Raphaëlle Peinado (
 Sustainability Director) &amp\; Claudio Castro (Volcafe Way Manager).\n 	O
 pen discussion on Volcafe’s approach to EUDR compliance and their bigges
 t lessons learned.\n 	Live Q&amp\;A with Maikel\, Thomas\, and the audienc
 e.\n\n\n 	 Wrap-Up and Engagement (10 min)\n\n\n 	Actionable takeaways to 
 implement immediately.\n 	Final Q&amp\;A session to address your specific 
 challenges.\n 	Live polls and interactive discussion.\n\nMeet the Speakers
 :\n\n 	Maikel Fontein (Co-Founder\, Passionfruit)A leader in compliance au
 tomation\, helping companies streamline ESG challenges with innovative sol
 utions.\n‍\n 	Thomas Vaassen (CEO &amp\; Founder\, Meridia)An expert in 
 data verification and supply chain transparency\, bringing a hands-on pers
 pective to EUDR compliance.\n‍\n 	Raphaëlle Peinado (Sustainability Dir
 ector\, Volcafe)A sustainability veteran with deep expertise in responsibl
 e sourcing and supply chain management.\n‍\n 	Claudio Castro (Volcafe Wa
 y Manager\, Volcafe)A key player in supporting farmers with data collectio
 n and compliance.\n\nDon’t miss this opportunity to move beyond theory a
 nd tackle EUDR compliance with real-world strategies. Sign up today and ga
 in insights that will help you navigate compliance challenges with confide
 nce!\nRegister now\n&nbsp\;\n\n&nbsp\;
ATTACH;FMTTYPE=image/jpeg:https://www.duurzaam-ondernemen.nl/wordpress/wp-
 content/uploads/2025/02/Blue-Modern-Financial-Webinar-Youtube-Thumbnail-4-
 1.png
CATEGORIES:Verslaggeving &amp; Transparantie
LOCATION:Online webinar\,  \,  \, Nederland
GEO:52.132633;5.291266
X-APPLE-STRUCTURED-LOCATION;VALUE=URI;X-ADDRESS= \,  \, Nederland;X-APPLE-R
 ADIUS=100;X-TITLE=Online webinar:geo:52.132633,5.291266
END:VEVENT
BEGIN:VTIMEZONE
TZID:Europe/Amsterdam
X-LIC-LOCATION:Europe/Amsterdam
BEGIN:STANDARD
DTSTART:20241027T020000
TZOFFSETFROM:+0200
TZOFFSETTO:+0100
TZNAME:CET
END:STANDARD
END:VTIMEZONE
END:VCALENDAR