BEGIN:VCALENDAR
VERSION:2.0
PRODID:-//wp-events-plugin.com//7.2.3.1//EN
TZID:Europe/Amsterdam
X-WR-TIMEZONE:Europe/Amsterdam
BEGIN:VEVENT
UID:1945@duurzaam-ondernemen.nl
DTSTART;TZID=Europe/Amsterdam:20260121T090000
DTEND;TZID=Europe/Amsterdam:20260121T100000
DTSTAMP:20260110T095746Z
URL:https://www.duurzaam-ondernemen.nl/events/webinar-natuurlijk-kapitaal-
 op-de-balans/
SUMMARY:Webinar 'Natuurlijk Kapitaal Op De Balans'
DESCRIPTION:Hoe boeren betaald kunnen worden voor hun ecosysteemdiensten!\n
 \nBij de Robin Food Coalition werken we gezamenlijk aan een voedselsysteem
  waarin iedereen gezond eet\, de natuur bloeit en de boer een goede boterh
 am verdient. Voor ons betekent dat dat gezonde natuur\, zoals gezonde bode
 ms\, schoon water of biodiversiteit\, een waarde moeten hebben in onze eco
 nomie. Duurzaam boeren is de sleutel\, want 54% van Nederland (oppervlakte
 ) wordt beheerd door boeren. En als zij natuur herstellen\, moeten ze daar
  ook eerlijk voor worden beloond:\n\n“Als we de natuur blijven zien als 
 gratis en onbeperkt\, betalen we dat later dubbel terug in ons voedsel\, o
 nze gezondheid en het klimaat. Vooruitgang ligt in het erkennen en vergoed
 en van de waarde die boeren creëren door natuurherstel en landbouw hand i
 n hand te laten gaan.”\n\nEnter onze pilot: Natuurlijk Kapitaal Op De 
 Balans!\n\nMet deze pilot toetsen we de haalbaarheid van een model dat boe
 ren direct beloont voor de positieve ecosysteemdiensten die ze leveren\, z
 oals biodiversiteit\, bodemgezondheid\, waterbergend vermogen en koolstofo
 pslag.\nWat kun je verwachten in dit webinar?\nProject lead Eva Gouwens 
 neemt je in één uur mee in:\n\n 	De pilot Natuurlijk Kapitaal - waarom 
 we dit doen en wat we willen veranderen.\n 	Hoe Natuurlijk Kapitaal werkt 
 - van meten en waarderen tot investeren in ecosysteemdiensten a.d.h.v. en
 kele concrete voorbeelden\n 	Wat dit kan betekenen voor de landbouwtransit
 ie en onze economie\n 	Q&amp\;A - Ruimte om je vragen te stellen en mee t
 e denken over de toekomst van een natuurpositief landbouwsysteem.\n\nGrati
 s aanmelden
ATTACH;FMTTYPE=image/jpeg:https://www.duurzaam-ondernemen.nl/wordpress/wp-
 content/uploads/2026/01/unnamed-2026-01-10T105516.036.jpg
CATEGORIES:Voeding &amp; Landbouw
LOCATION:Online webinar\,  \,  \, Nederland
GEO:52.132633;5.291266
X-APPLE-STRUCTURED-LOCATION;VALUE=URI;X-ADDRESS= \,  \, Nederland;X-APPLE-R
 ADIUS=100;X-TITLE=Online webinar:geo:52.132633,5.291266
END:VEVENT
BEGIN:VTIMEZONE
TZID:Europe/Amsterdam
X-LIC-LOCATION:Europe/Amsterdam
BEGIN:STANDARD
DTSTART:20251026T020000
TZOFFSETFROM:+0200
TZOFFSETTO:+0100
TZNAME:CET
END:STANDARD
END:VTIMEZONE
END:VCALENDAR