BEGIN:VCALENDAR
VERSION:2.0
PRODID:-//wp-events-plugin.com//7.2.3.1//EN
TZID:Europe/Amsterdam
X-WR-TIMEZONE:Europe/Amsterdam
BEGIN:VEVENT
UID:2071@duurzaam-ondernemen.nl
DTSTART;TZID=Europe/Amsterdam:20260527T100000
DTEND;TZID=Europe/Amsterdam:20260527T110000
DTSTAMP:20260422T114347Z
URL:https://www.duurzaam-ondernemen.nl/events/webinar-mastering-lcas-pcfs-
 and-epds-for-global-compliance/
SUMMARY:Webinar 'Mastering LCAs\, PCFs\, and EPDs for global compliance'
DESCRIPTION:Streamline LCA calculation with Green Earth\nIn an era of tight
 ening global regulations and green procurement requirements\, vague sustai
 nability claims are no longer enough. To remain competitive\, businesses m
 ust move towards third-party verified\, data-driven carbon transparency.\n
 \nJoin Green Earth and our new partners at One Click LCA for an in-depth e
 xploration into the technical and strategic world of Life Cycle Assessment
 s (LCA). Whether you are aiming to lower the embodied carbon of a construc
 tion project or need to generate a Product Carbon Footprint (PCF) for a sp
 ecific SKU\, this session provides a clear path forward.\n\nWe will showca
 se how our new partnership simplifies the complex data-gathering process\,
  allowing you to move from raw data to a published Environmental Product D
 eclaration (EPD) faster and more accurately than ever before.\n\nWe will c
 over value propositions for key target industries\, how to use verified EP
 Ds to win bids\, and how to navigate 2026 mandates from frameworks like CS
 RD and CPR.\nAgenda\n01 Introduction\nLearn more about your host\, Green E
 arth\, and our partnership with One Click LCA.\n\n02 Defining the terms\nA
  breakdown of LCAs\, PCFs\, and EPD (the verified document).\n\n03 The reg
 ulatory landscape\nWhy "optional" reporting is becoming mandatory in 2026 
 and how to get ready for it.\n\n04 Benefits to business\nWhat businesses s
 tand to gain from this new framework\, with a focus on key target industri
 es.\n\n05 The Green Earth solution\nA live look at the One Click LCA inter
 face and how we support your data journey.\n\n06 Q&amp\;A\nOpen session fo
 r participants to ask questions and discuss practical applications.\nHost 
 &amp\; Speakers\n\n 	Ferdia O'Leary\, Carbon Footprint Manager Green Earth
 \n 	Manal Aimam\, Account Management Specialist WEU One Click LCA\n\nRegis
 ter\n\n&nbsp\;
ATTACH;FMTTYPE=image/jpeg:https://www.duurzaam-ondernemen.nl/wordpress/wp-
 content/uploads/2026/04/mastering.jpg
CATEGORIES:Algemeen/Overig
LOCATION:Online webinar\,  \,  \, Nederland
GEO:52.132633;5.291266
X-APPLE-STRUCTURED-LOCATION;VALUE=URI;X-ADDRESS= \,  \, Nederland;X-APPLE-R
 ADIUS=100;X-TITLE=Online webinar:geo:52.132633,5.291266
END:VEVENT
BEGIN:VTIMEZONE
TZID:Europe/Amsterdam
X-LIC-LOCATION:Europe/Amsterdam
BEGIN:DAYLIGHT
DTSTART:20260329T030000
TZOFFSETFROM:+0100
TZOFFSETTO:+0200
TZNAME:CEST
END:DAYLIGHT
END:VTIMEZONE
END:VCALENDAR