BEGIN:VCALENDAR
VERSION:2.0
PRODID:-//wp-events-plugin.com//7.2.3.1//EN
TZID:Europe/Amsterdam
X-WR-TIMEZONE:Europe/Amsterdam
BEGIN:VEVENT
UID:1874@duurzaam-ondernemen.nl
DTSTART;TZID=Europe/Amsterdam:20251023T120000
DTEND;TZID=Europe/Amsterdam:20251023T130000
DTSTAMP:20251021T084920Z
URL:https://www.duurzaam-ondernemen.nl/events/webinar-madscan-breakthrough
 -analysis-technology-for-smarter-recycling/
SUMMARY:Webinar 'MADSCAN® - Breakthrough Analysis Technology for Smarter R
 ecycling'
DESCRIPTION:Cirmar is lid van de Community of Practice – Circular Economy
  van COAST Community of Innovation. Deze community heeft als doel het opsc
 halen en verbeteren van de toepassing van recyclaat. Daar is veel voor nod
 ig\, waaronder een sterk netwerk\, onderzoek\, prikkels voor de markt en o
 ok: technologie. Daarom laat de community in samenwerking met een van haar
  leden\, Veridis\, in een inspirerend webinar zien wat er nu al mogelijk i
 s met innovatieve analysetechnologie in de circulaire economie. Het webina
 r vindt plaats op donderdag 23 oktober\, tijdens de lunchpauze (vanaf 12 u
 ur).\nOntdek MADSCAN®\, een gepatenteerde sensortechnologie die vlokken u
 it gemengde plastic afvalstromen analyseert en zo cruciale inzichten versc
 haft vóór het extrusieproces.\n\nWaarom is dit belangrijk?\nDoor rechtst
 reeks op vlokken te meten in plaats van op geëxtrudeerde pellets\, worden
  in een vroeg stadium van de waardeketen inzichten verkregen. Dit biedt un
 ieke mogelijkheden voor samenwerking en innovatie met het oog op een optim
 aal recyclaat dat perfect aansluit bij de beoogde toepassing.\n\nWat is MA
 DSCAN®?\nEen unieke thermische analysemethode die 250 sensoren per scan g
 ebruikt om zelfs kleine polymeerfracties te detecteren en te kwantificeren
  (met een nauwkeurigheid tot 1%).\n\n\n 	Geschikt voor vlokken en granulaa
 t\n 	Onafhankelijk van kleur of gelaagdheid\n 	Maakt nauwkeurig onderschei
 d tussen materialen zoals LLDPE versus LDPE en PP COPO versus PP HOMO\n 	O
 ndersteund door een centrale polymeerdatabase\n 	Toepasbaar in zowel mecha
 nische als chemische recyclingprocessen\n\nInhoud webinar\nTijdens het web
 inar (engelstalig):\n\n\n 	Introductie van MADSCAN® en de toepassingen er
 van\n 	Praktijkvoorbeelden uit de recyclingindustrie\n 	Hoe deze technolog
 ie bijdraagt aan procesoptimalisatie en kwaliteitsborging\n 	Discussie ove
 r mogelijkheden voor samenwerking in de hele waardeketen\n\nAanmelden\n
ATTACH;FMTTYPE=image/jpeg:https://www.duurzaam-ondernemen.nl/wordpress/wp-
 content/uploads/2025/10/wbcir.jpg
CATEGORIES:Circulaire economie
LOCATION:Online webinar\,  \,  \, Nederland
GEO:52.132633;5.291266
X-APPLE-STRUCTURED-LOCATION;VALUE=URI;X-ADDRESS= \,  \, Nederland;X-APPLE-R
 ADIUS=100;X-TITLE=Online webinar:geo:52.132633,5.291266
END:VEVENT
BEGIN:VTIMEZONE
TZID:Europe/Amsterdam
X-LIC-LOCATION:Europe/Amsterdam
BEGIN:DAYLIGHT
DTSTART:20250330T030000
TZOFFSETFROM:+0100
TZOFFSETTO:+0200
TZNAME:CEST
END:DAYLIGHT
END:VTIMEZONE
END:VCALENDAR