BEGIN:VCALENDAR
VERSION:2.0
PRODID:-//wp-events-plugin.com//7.2.3.1//EN
TZID:Europe/Amsterdam
X-WR-TIMEZONE:Europe/Amsterdam
BEGIN:VEVENT
UID:1897@duurzaam-ondernemen.nl
DTSTART;TZID=Europe/Amsterdam:20251210T100000
DTEND;TZID=Europe/Amsterdam:20251210T110000
DTSTAMP:20251113T094814Z
URL:https://www.duurzaam-ondernemen.nl/events/webinar-living-wage-just-tra
 nsition/
SUMMARY:Webinar Living Wage & Just Transition
DESCRIPTION:Providing a living wage remains one of the greatest challenges 
 facing today’s global economy. A challenge that encompasses economic\, s
 ocial\, and environmental dimensions. In April 2025\, the International La
 bour Organization (ILO) took a historic step with the launch of its first-
 ever global living wage program. This milestone marks a pivotal moment. Th
 e program aims to make fair wages a foundation for societies moving toward
  a more sustainable future and to ensure that these transitions are also j
 ust.\n\nIn the webinar 'A new era for living wage? Building a social found
 ation for the transition economy'\, VBDO will share key findings from our 
 latest research on how investors are addressing living wages. We’ll expl
 ain why living wages are important to investors and how they relate to the
 mes such as the just transition\, which serve as drivers of sustainable va
 lue.\n\nTogether with leading investors and living wage experts\, we’ll 
 delve into the findings and share new insights. We’ll share lessons lear
 ned that will help shape a shared action strategy – a strategy that ensu
 res the transition to a sustainable future delivers just outcomes for work
 ers and communities worldwide.\nWebinar programme\n\n 	Key Note: results f
 rom the report An Exploration of Living Wage and Just Transition | Jacquel
 ine Duiker\, Sr. Manager Sustainability\, VBDO\n 	Expert panel discussion:
 \nPetter Forslund\, Engagement Manager\, AP2 Pension Fund\nNabylah Abo Deh
 man\, Head of Stewardship\, Social Afffairs &amp\; Human Rights\, PRI\nJor
 dy van Honk\, Global Director Income &amp\; Employement\, IDH Sustainable 
 Value Chains\n\nRegister for this webinar on Microsoft Teams
ATTACH;FMTTYPE=image/jpeg:https://www.duurzaam-ondernemen.nl/wordpress/wp-
 content/uploads/2025/11/unnamed-2025-11-13T104539.463.jpg
CATEGORIES:Duurzaamheidsprofessionals
LOCATION:Online webinar\,  \,  \, Nederland
GEO:52.132633;5.291266
X-APPLE-STRUCTURED-LOCATION;VALUE=URI;X-ADDRESS= \,  \, Nederland;X-APPLE-R
 ADIUS=100;X-TITLE=Online webinar:geo:52.132633,5.291266
END:VEVENT
BEGIN:VTIMEZONE
TZID:Europe/Amsterdam
X-LIC-LOCATION:Europe/Amsterdam
BEGIN:STANDARD
DTSTART:20251026T020000
TZOFFSETFROM:+0200
TZOFFSETTO:+0100
TZNAME:CET
END:STANDARD
END:VTIMEZONE
END:VCALENDAR