BEGIN:VCALENDAR
VERSION:2.0
PRODID:-//wp-events-plugin.com//7.2.3.1//EN
TZID:Europe/Amsterdam
X-WR-TIMEZONE:Europe/Amsterdam
BEGIN:VEVENT
UID:2027@duurzaam-ondernemen.nl
DTSTART;TZID=Europe/Amsterdam:20260323T150000
DTEND;TZID=Europe/Amsterdam:20260323T160000
DTSTAMP:20260310T150429Z
URL:https://www.duurzaam-ondernemen.nl/events/webinar-kansen-en-belemmerin
 gen-zonne-energie-op-gevels/
SUMMARY:Webinar: kansen en belemmeringen zonne-energie op gevels
DESCRIPTION:Bent u eigenaar of gebruiker van commercieel of maatschappelijk
  vastgoed\, zoals een kantoor\, bedrijfspand\, winkel\, school of museum? 
 U kunt behalve het dak soms ook de gevel van het gebouw gebruiken om zonne
 -energie op te wekken. Meld u aan voor dit webinar van RVO Nederland en on
 tdek welke mogelijkheden u hiervoor heeft.\nVoor wie?\nDit webinar is voor
  iedereen die meer wil weten over de kansen van zonne-energie op gevels va
 n utiliteitsgebouwen. Utiliteitsgebouwen zijn gebouwen die niet bedoeld zi
 jn om in te wonen\, maar gebruikt worden door een bedrijf\, maatschappelij
 ke organisatie of de overheid.\n\nBent u ondernemer en wilt u zonnegevels 
 voor uw bedrijfspand? Of werkt u bij de overheid en wilt u zorgen voor mee
 r zonnepanelen op de gevels van eigen openbare gebouwen\, zoals het gemeen
 tehuis of het zwembad? Dan is deze online sessie interessant voor u.\n\nBe
 nt u installateur of energie-adviseur? Ook dan kunt u uw voordeel doen met
  kennis over de mogelijkheden van zonne-energie op gevels.\nWat kunt u ver
 wachten?\nDit webinar gaat over Building Applied Photovoltaics (BAPV)-inst
 allaties op gevels. Dat zijn zoninstallaties waarbij de panelen op de geve
 ls zijn geplaatst en geen onderdeel zijn van de gevel zelf. Zo leert u:\n\
 n 	welke mogelijkheden er nu al zijn voor deze installaties op gevels. U o
 ntdekt onder andere welke typen panelen er zijn. En u krijgt hierbij voorb
 eelden uit de praktijk\;\n 	welke soorten gebouwen het meest geschikt zijn
  voor dit soort zonne-energie op gevels\;\n 	welke kansen u kunt benutten.
  Bijvoorbeeld elektriciteit opwekken buiten piekuren\;\n 	welke belemmerin
 gen u misschien tegenkomt. Bijvoorbeeld een vergunningsplicht. Of hogere e
 isen aan de constructie dan bij zonnepanelen op daken.\n\nTijdens de sessi
 e kunt u vragen stellen.\n\nGratis aanmelden
ATTACH;FMTTYPE=image/jpeg:https://www.duurzaam-ondernemen.nl/wordpress/wp-
 content/uploads/2026/03/zon-op-gevel.webp
CATEGORIES:Bouw/Infra &amp; Vastgoed,Klimaat en Energie
LOCATION:Online webinar\,  \,  \, Nederland
GEO:52.132633;5.291266
X-APPLE-STRUCTURED-LOCATION;VALUE=URI;X-ADDRESS= \,  \, Nederland;X-APPLE-R
 ADIUS=100;X-TITLE=Online webinar:geo:52.132633,5.291266
END:VEVENT
BEGIN:VTIMEZONE
TZID:Europe/Amsterdam
X-LIC-LOCATION:Europe/Amsterdam
BEGIN:STANDARD
DTSTART:20251026T020000
TZOFFSETFROM:+0200
TZOFFSETTO:+0100
TZNAME:CET
END:STANDARD
END:VTIMEZONE
END:VCALENDAR