BEGIN:VCALENDAR
VERSION:2.0
PRODID:-//wp-events-plugin.com//7.2.3.1//EN
TZID:Europe/Amsterdam
X-WR-TIMEZONE:Europe/Amsterdam
BEGIN:VEVENT
UID:1970@duurzaam-ondernemen.nl
DTSTART;TZID=Europe/Amsterdam:20260521T100000
DTEND;TZID=Europe/Amsterdam:20260521T110000
DTSTAMP:20260126T122151Z
URL:https://www.duurzaam-ondernemen.nl/events/webinar-jouw-klimaatactie-du
 idelijk-communiceren/
SUMMARY:Webinar 'Jouw klimaatactie duidelijk communiceren'
DESCRIPTION:Klimaatactie communiceren - wat is greenwashing of greenhushing
 ? \n\nWat werkt echt bij het communiceren over de klimaatactie van je bedr
 ijf – en wat werkt juist tegen?\n\nIn deze Deep Dive van ClimatePartner 
 dagen we aannames uit\, delen we inzichten uit praktijk-campagnes in versc
 hillende sectoren en bieden we praktische tips die je direct kunt toepasse
 n. Of je nu te maken hebt met groene claims\, streeft naar geloofwaardighe
 id of moeilijke vragen moet beantwoorden\, wij helpen je op weg.\n\nGratis
  aanmelden Webinar Jouw klimaatactie duidelijk communiceren
ATTACH;FMTTYPE=image/jpeg:https://www.duurzaam-ondernemen.nl/wordpress/wp-
 content/uploads/2026/01/Klimaatactie-communiceren_mei2026.jpg
CATEGORIES:Klimaat en Energie,Verslaggeving &amp; Transparantie
LOCATION:Online webinar\,  \,  \, Nederland
GEO:52.132633;5.291266
X-APPLE-STRUCTURED-LOCATION;VALUE=URI;X-ADDRESS= \,  \, Nederland;X-APPLE-R
 ADIUS=100;X-TITLE=Online webinar:geo:52.132633,5.291266
END:VEVENT
BEGIN:VTIMEZONE
TZID:Europe/Amsterdam
X-LIC-LOCATION:Europe/Amsterdam
BEGIN:DAYLIGHT
DTSTART:20260329T030000
TZOFFSETFROM:+0100
TZOFFSETTO:+0200
TZNAME:CEST
END:DAYLIGHT
END:VTIMEZONE
END:VCALENDAR