BEGIN:VCALENDAR
VERSION:2.0
PRODID:-//wp-events-plugin.com//7.2.3.1//EN
TZID:Europe/Amsterdam
X-WR-TIMEZONE:Europe/Amsterdam
BEGIN:VEVENT
UID:1659@duurzaam-ondernemen.nl
DTSTART;TZID=Europe/Amsterdam:20250410T110000
DTEND;TZID=Europe/Amsterdam:20250410T114500
DTSTAMP:20250314T080159Z
URL:https://www.duurzaam-ondernemen.nl/events/webinar-hoe-help-ik-mijn-bed
 rijvenachterban-met-betekenisvolle-stakeholderdialoog/
SUMMARY:Webinar 'Hoe help ik mijn bedrijvenachterban met betekenisvolle sta
 keholderdialoog?'
DESCRIPTION:Wil jij je bedrijvenachterban helpen met betekenisvolle stakeho
 lderdialoog? Meld je dan aan voor dit webinar.\n\nOm verantwoord te ondern
 emen\, moeten bedrijven met hun belanghebbenden (stakeholders) in gesprek 
 gaan en hun input meenemen in besluitvorming. Duurzaamheidswetgeving\, zoa
 ls de CSRD en CSDDD\, vereist dit ook van bedrijven.\n\nOntdek in dit webi
 nar waarom betekenisvolle stakeholderdialoog belangrijk is voor jouw achte
 rban en hoe jij bedrijven in je achterban hierbij kan helpen.\n\nEvofenede
 x (ondernemersvereniging internationale handel en logistiek) deelt in dit 
 webinar hoe zij dit in de praktijk brengt.\nVoor wie?\nDit webinar is voor
  organisaties die bedrijven informeren\, stimuleren en/of ondersteunen bij
  verantwoord ondernemen in de (internationale) keten.\nWelke inzichten doe
  je op?\n•    Belang van betekenisvolle stakeholderdialoog voor jouw 
 achterban\n•    Aandachtspunten en tips voor een betekenisvolle stake
 holderdialoog\n•    Manieren om je achterban hierbij te helpen\, zoal
 s het organiseren van een workshop\nSprekers\nJules Beelen\, Beleidsmedewe
 rker\, Sociaal-Economische Raad\n\nWillemijn Gwanmesia\, Programmamanager 
 IMVO\, Evofenedex\n\nTed van Hintum\, Communicatieadviseur\, Sociaal-Econo
 mische Raad (moderator)\n\nMeer informatie/aanmelden\n\n&nbsp\;
ATTACH;FMTTYPE=image/jpeg:https://www.duurzaam-ondernemen.nl/wordpress/wp-
 content/uploads/2025/03/1741774359751.jpg
CATEGORIES:Duurzaamheidsprofessionals
LOCATION:Online webinar\,  \,  \, Nederland
GEO:52.132633;5.291266
X-APPLE-STRUCTURED-LOCATION;VALUE=URI;X-ADDRESS= \,  \, Nederland;X-APPLE-R
 ADIUS=100;X-TITLE=Online webinar:geo:52.132633,5.291266
END:VEVENT
BEGIN:VTIMEZONE
TZID:Europe/Amsterdam
X-LIC-LOCATION:Europe/Amsterdam
BEGIN:DAYLIGHT
DTSTART:20250330T030000
TZOFFSETFROM:+0100
TZOFFSETTO:+0200
TZNAME:CEST
END:DAYLIGHT
END:VTIMEZONE
END:VCALENDAR