BEGIN:VCALENDAR
VERSION:2.0
PRODID:-//wp-events-plugin.com//7.2.3.1//EN
TZID:Europe/Amsterdam
X-WR-TIMEZONE:Europe/Amsterdam
BEGIN:VEVENT
UID:1191@duurzaam-ondernemen.nl
DTSTART;TZID=Europe/Amsterdam:20240411T100000
DTEND;TZID=Europe/Amsterdam:20240411T110000
DTSTAMP:20240110T073012Z
URL:https://www.duurzaam-ondernemen.nl/events/webinar-hoe-behaal-ik-als-or
 ganisatie-de-co2-prestatieladder-op-niveau-4-en-5/
SUMMARY:Webinar 'Hoe behaal ik als organisatie de CO2-Prestatieladder op ni
 veau 4 en 5'
DESCRIPTION:In dit webinar neemt De Duurzame Adviseurs je mee in hoe je als
  organisatie de stap naar niveau 4 of 5 op de CO2-Prestatieladder kunt beh
 alen.\n​​​​​​​\nIn veel aanbestedingen kun je met verschille
 nde niveaus van de CO2-Prestatieladder inschrijven. Toch zie je vaak een g
 root verschil in percentage wanneer je de stap naar niveau 4 of 5 maakt. A
 ls organisatie kun je namelijk naast de CO2-reductie binnen je eigen organ
 isatie ook impact maken in de keten. Maar hoe ziet deze keten er precies u
 it en hoeveel invloed heb je als organisatie op je ketenpartners?\n\nIn di
 t webinar nemen we je mee hoe jij als organisatie het niveau 4 of 5 certif
 icaat kunt behalen. Hierin komen de volgende onderwerpen naar voren:\n· 
      Inzichtelijk maken van de keten\n·      Opstellen ketenan
 alyse\n·      Opstellen ketendoelstellingen\n·      Berekene
 n scope 3 emissies\n·      Belangrijkste eisen vanuit handboek 3.1\
 n\nGratis aanmelden onderaan deze pagina
ATTACH;FMTTYPE=image/jpeg:https://www.duurzaam-ondernemen.nl/wordpress/wp-
 content/uploads/2022/01/ladder.jpg
CATEGORIES:Klimaat en Energie
LOCATION:Online webinar\,  \,  \, Nederland
GEO:52.132633;5.291266
X-APPLE-STRUCTURED-LOCATION;VALUE=URI;X-ADDRESS= \,  \, Nederland;X-APPLE-R
 ADIUS=100;X-TITLE=Online webinar:geo:52.132633,5.291266
END:VEVENT
BEGIN:VTIMEZONE
TZID:Europe/Amsterdam
X-LIC-LOCATION:Europe/Amsterdam
BEGIN:DAYLIGHT
DTSTART:20240331T030000
TZOFFSETFROM:+0100
TZOFFSETTO:+0200
TZNAME:CEST
END:DAYLIGHT
END:VTIMEZONE
END:VCALENDAR