BEGIN:VCALENDAR
VERSION:2.0
PRODID:-//wp-events-plugin.com//7.2.3.1//EN
TZID:Europe/Amsterdam
X-WR-TIMEZONE:Europe/Amsterdam
BEGIN:VEVENT
UID:1189@duurzaam-ondernemen.nl
DTSTART;TZID=Europe/Amsterdam:20240208T100000
DTEND;TZID=Europe/Amsterdam:20240208T110000
DTSTAMP:20240110T072638Z
URL:https://www.duurzaam-ondernemen.nl/events/webinar-hoe-behaal-ik-als-or
 ganisatie-de-co2-prestatieladder-op-niveau-3/
SUMMARY:Webinar 'Hoe behaal ik als organisatie de CO2-Prestatieladder op ni
 veau 3'
DESCRIPTION:De CO2-Prestatieladder is een belangrijk instrument dat bedrijv
 en in staat stelt om hun CO2-uitstoot te verminderen en klimaatneutraal te
  opereren. Niveau 3 van de ladder richt zich specifiek op het in kaart bre
 ngen van de gehele CO2-voetafdruk van een organisatie\, het stellen van co
 ncrete doelen voor reductie en het nemen van maatregelen om deze doelen te
  bereiken.\n\nTijdens het webinar zullen Ivar en Lara van De Duurzame Advi
 seurs je alles vertellen over de stappen die je als organisatie kunt onder
 nemen om het certificaat te behalen. We lopen langs de belangrijkste eisen
  uit de norm\, laten verschillende voorbeeldcases zien en geven vooral vee
 l tips over de verschillende door te lopen stappen.\n\n​​​​​​
 ​ Stapsgewijze gids: Leer de concrete stappen om een complete CO2-footpr
 intanalyse uit te voeren.\n Realistische doelen stellen: Ontdek hoe u meet
 bare en haalbare CO2-reductiedoelen vaststelt.\n​​​​​​​ Duur
 zame maatregelen: Leer praktische oplossingen om uw CO2-uitstoot te vermin
 deren.\n Monitor en rapporteer: Zet een effectief systeem op om de voortga
 ng van uw inspanningen te meten.\n​​​​​​​ Certificering op n
 iveau 3: Ontdek hoe u erkenning krijgt voor uw duurzame inzet.\n\nVerder i
 s er de gelegenheid om vragen te stellen\, om meer te weten te komen ove
 r het implementeren van het managementsysteem.\n\nGratis aanmelden ondera
 an deze pagina
ATTACH;FMTTYPE=image/jpeg:https://www.duurzaam-ondernemen.nl/wordpress/wp-
 content/uploads/2022/01/ladder.jpg
CATEGORIES:Klimaat en Energie
LOCATION:Online webinar\,  \,  \, Nederland
GEO:52.132633;5.291266
X-APPLE-STRUCTURED-LOCATION;VALUE=URI;X-ADDRESS= \,  \, Nederland;X-APPLE-R
 ADIUS=100;X-TITLE=Online webinar:geo:52.132633,5.291266
END:VEVENT
BEGIN:VTIMEZONE
TZID:Europe/Amsterdam
X-LIC-LOCATION:Europe/Amsterdam
BEGIN:STANDARD
DTSTART:20231029T020000
TZOFFSETFROM:+0200
TZOFFSETTO:+0100
TZNAME:CET
END:STANDARD
END:VTIMEZONE
END:VCALENDAR