BEGIN:VCALENDAR
VERSION:2.0
PRODID:-//wp-events-plugin.com//7.2.3.1//EN
TZID:Europe/Amsterdam
X-WR-TIMEZONE:Europe/Amsterdam
BEGIN:VEVENT
UID:2054@duurzaam-ondernemen.nl
DTSTART;TZID=Europe/Amsterdam:20260512T120000
DTEND;TZID=Europe/Amsterdam:20260512T130000
DTSTAMP:20260401T113438Z
URL:https://www.duurzaam-ondernemen.nl/events/webinar-herziene-eed-ontdek-
 kansen-verplichtingen/
SUMMARY:Webinar 'Herziene EED\, ontdek kansen & verplichtingen'
DESCRIPTION:Ben je klaar om grip te krijgen op jouw energiegebruik en tegel
 ijkertijd te profiteren van concrete besparingsmogelijkheden? De herziene 
 Europese Energie-Efficiëntierichtlijn (EED) stelt nieuwe eisen waar jouw 
 onderneming aan moet voldoen. Maar wat betekent dit precies voor jou? En h
 oe pak je dit slim en efficiënt aan?\n\nOntdek tijdens jouw lunchpauze in
  een webinar van Kader Group hoe de herziene EED uw organisatie kan verste
 rken. Neem een hap uit de nieuwe regels\, proef de voordelen van energiebe
 sparing en krijg helder antwoord op al jouw vragen.​​​​​​​\n
 Voor wie?\nDit webinar is onmisbaar voor ondernemers\, energie- en duurzaa
 mheidsexperts\, facility managers en iedereen die verantwoordelijk is voor
  energiebeheer binnen bedrijven en instellingen\, zowel in de industrie al
 s in de publieke sector.\nIn dit webinar laat Andre Hof zien:\n\n 	wat de 
 herziene EED precies inhoudt en welke veranderingen er zijn ten opzichte v
 an de vorige richtlijn\n 	voor welke ondernemingen de EED-auditplicht geld
 t en hoe je het energieverbruik correct berekent\n 	wat de voordelen zijn 
 van een energie-audit voor jouw organisatie\n 	wanneer jouw onderneming ve
 rplicht een energiebeheersysteem (zoals ISO50001) in moet voeren\n 	welke 
 vrijstellingen er zijn voor de energiebeheersysteemplicht en hoe je daar g
 ebruik van kan maken\n 	wat er precies in het rapport van de energie-audit
  en het actieplan moet staan\n\nAanmelden
ATTACH;FMTTYPE=image/jpeg:https://www.duurzaam-ondernemen.nl/wordpress/wp-
 content/uploads/2026/04/Webinargeek-2.png
CATEGORIES:Klimaat en Energie
LOCATION:Online webinar\,  \,  \, Nederland
GEO:52.132633;5.291266
X-APPLE-STRUCTURED-LOCATION;VALUE=URI;X-ADDRESS= \,  \, Nederland;X-APPLE-R
 ADIUS=100;X-TITLE=Online webinar:geo:52.132633,5.291266
END:VEVENT
BEGIN:VTIMEZONE
TZID:Europe/Amsterdam
X-LIC-LOCATION:Europe/Amsterdam
BEGIN:DAYLIGHT
DTSTART:20260329T030000
TZOFFSETFROM:+0100
TZOFFSETTO:+0200
TZNAME:CEST
END:DAYLIGHT
END:VTIMEZONE
END:VCALENDAR