BEGIN:VCALENDAR
VERSION:2.0
PRODID:-//wp-events-plugin.com//7.2.3.1//EN
TZID:Europe/Amsterdam
X-WR-TIMEZONE:Europe/Amsterdam
BEGIN:VEVENT
UID:2067@duurzaam-ondernemen.nl
DTSTART;TZID=Europe/Amsterdam:20260528T140000
DTEND;TZID=Europe/Amsterdam:20260528T144500
DTSTAMP:20260420T071624Z
URL:https://www.duurzaam-ondernemen.nl/events/webinar-grondstoffenschaarst
 e-neemt-toe-wetgeving-versnelt-ben-jij-voorbereid/
SUMMARY:Webinar 'Grondstoffenschaarste neemt toe\, wetgeving versnelt. Ben 
 jij voorbereid?'
DESCRIPTION:Earth Overshoot Day valt dit jaar al op 5 juni\, ruim zeven wek
 en eerder dan vorig jaar. Tegelijkertijd daalt de circulariteit wereldwijd
  naar 6\,9%. De druk op grondstoffen neemt toe\, wetgeving zoals de PPWR t
 reedt in augustus 2026 in werking\, en de kosten stijgen. Als duurzaamheid
 smanager weet je: de vraag is niet óf je moet handelen\, maar hoe.\n\nIn 
 dit webinar deelt Milgro de belangrijkste inzichten uit ons nieuwste onder
 zoeksrapport dat in juni wordt gepubliceerd. We laten zien waar organisati
 es nu echt staan\, waarom circulaire ambities blijven steken en wat jij co
 ncreet kunt doen om wel vooruit te komen.\n\nWat je meeneemt:\n\n 	Inzicht
 : waar staat jouw organisatie echt?\n 	Analyse: waarom blijven ambities st
 eken?\n 	Actie: concrete stappen om regie te houden\n\nMeer informatie/aan
 melden
ATTACH;FMTTYPE=image/jpeg:https://www.duurzaam-ondernemen.nl/wordpress/wp-
 content/uploads/2026/04/Webinar-banner-for-platform-duurzaam-ondernemen.jp
 g
CATEGORIES:Circulaire economie
LOCATION:Online webinar\,  \,  \, Nederland
GEO:52.132633;5.291266
X-APPLE-STRUCTURED-LOCATION;VALUE=URI;X-ADDRESS= \,  \, Nederland;X-APPLE-R
 ADIUS=100;X-TITLE=Online webinar:geo:52.132633,5.291266
END:VEVENT
BEGIN:VTIMEZONE
TZID:Europe/Amsterdam
X-LIC-LOCATION:Europe/Amsterdam
BEGIN:DAYLIGHT
DTSTART:20260329T030000
TZOFFSETFROM:+0100
TZOFFSETTO:+0200
TZNAME:CEST
END:DAYLIGHT
END:VTIMEZONE
END:VCALENDAR