BEGIN:VCALENDAR
VERSION:2.0
PRODID:-//wp-events-plugin.com//7.2.3.1//EN
TZID:Europe/Amsterdam
X-WR-TIMEZONE:Europe/Amsterdam
BEGIN:VEVENT
UID:1876@duurzaam-ondernemen.nl
DTSTART;TZID=Europe/Amsterdam:20251028T110000
DTEND;TZID=Europe/Amsterdam:20251028T114500
DTSTAMP:20251021T163934Z
URL:https://www.duurzaam-ondernemen.nl/events/webinar-geen-eudr-uitstel-pr
 aktische-stappen-naar-naleving-voor-1-januari/
SUMMARY:Webinar: Geen EUDR-uitstel – praktische stappen naar naleving vó
 ór 1 januari
DESCRIPTION:De EU-wetgeving tegen ontbossing (EUDR) gaat door. Grote bedrij
 ven en handelaren blijven volledig binnen de reikwijdte per 1 januari 202
 6\, terwijl alleen micro- en kleine ondernemingen mogelijk een beperkte ve
 rlenging krijgen. Voor de meeste bedrijven betekent dit dat de klok weer b
 egint te tikken.\n\nIn deze sessie van 45 minuten legt het EUDR-onderzoek
 steam van Coolset uit wat de laatste ontwikkelingen in de praktijk beteke
 nen en hoe je je op tijd kunt voorbereiden – zelfs als je nog vanaf nul 
 moet beginnen.\n\nIn deze sessie leer je:\n\n→ Wat er wel (en niet) is v
 eranderd na de aankondiging van de Europese Commissie\n\n→ Wat het huidi
 ge voorstel betekent voor operators\, handelaren en kleine leveranciers bi
 nnen grotere waardeketens\n\n→ Wat nu de belangrijkste prioriteit is: ho
 e je vóór 1 januari EUDR-klaar bent\n\n→ Waar je je inspanningen het b
 est op kunt richten (data\, leveranciers\, bewijsstukken\, documentatie)\n
 \n→ Hoe je naleving operationeel maakt met behulp van traceerbaarheid\, 
 leveranciersbetrokkenheid en due-diligenceprocessen\n\nReserveer hier uw p
 lek →
ATTACH;FMTTYPE=image/jpeg:https://www.duurzaam-ondernemen.nl/wordpress/wp-
 content/uploads/2025/10/no-eudr-delay-CEO.webp
CATEGORIES:Duurzaamheidsprofessionals,Verslaggeving &amp;
 Transparantie,Voeding &amp; Landbouw
LOCATION:Online webinar\,  \,  \, Nederland
GEO:52.132633;5.291266
X-APPLE-STRUCTURED-LOCATION;VALUE=URI;X-ADDRESS= \,  \, Nederland;X-APPLE-R
 ADIUS=100;X-TITLE=Online webinar:geo:52.132633,5.291266
END:VEVENT
BEGIN:VTIMEZONE
TZID:Europe/Amsterdam
X-LIC-LOCATION:Europe/Amsterdam
BEGIN:STANDARD
DTSTART:20251026T020000
TZOFFSETFROM:+0200
TZOFFSETTO:+0100
TZNAME:CET
END:STANDARD
END:VTIMEZONE
END:VCALENDAR