BEGIN:VCALENDAR
VERSION:2.0
PRODID:-//wp-events-plugin.com//7.2.3.1//EN
TZID:Europe/Amsterdam
X-WR-TIMEZONE:Europe/Amsterdam
BEGIN:VEVENT
UID:1887@duurzaam-ondernemen.nl
DTSTART;TZID=Europe/Amsterdam:20251125T110000
DTEND;TZID=Europe/Amsterdam:20251125T120000
DTSTAMP:20251030T082012Z
URL:https://www.duurzaam-ondernemen.nl/events/webinar-future-proof-uw-orga
 nisatie-met-een-geintegreerde-esg-oplossing/
SUMMARY:Webinar: Future-proof uw organisatie met een geïntegreerde ESG-opl
 ossing
DESCRIPTION:Als duurzaamheidsprofessional bent u continu op zoek naar manie
 ren om ESG-rapportage en -management efficiënter\, transparanter en toeko
 mstbestendig te maken. Hoe implementeert u een oplossing die niet alleen n
 u voldoet\, maar ook meegroeit met toekomstige eisen en ontwikkelingen?\n\
 nMeld u aan voor het gratis\, internationaal Engelstalige webinar ‘Futur
 e-Proof Your Business with an ESG Solution’ en ontdek hoe een geïntegre
 erde ESG-oplossing uw organisatie kan helpen om duurzaamheidsdoelen effect
 ief te realiseren en tegelijk risico’s te beheersen.\n\nWat kunt u verwa
 chten?\n\n 	Inzichten in de voordelen van een geïntegreerd ESG-platform\n
  	Best practices voor het optimaliseren van ESG-processen\n 	Hoe u flexibe
 le oplossingen inzet om te anticiperen op veranderende regelgeving\n 	Inte
 ractieve sessie met ruimte voor uw vragen en praktijkervaringen\n\nLaat di
 t webinar u inspireren om met de juiste tools uw ESG-strategie toekomstbes
 tendig te maken en een voorsprong te nemen in duurzaam ondernemen.\n\nMeer
  informatie/aanmelden: https://bit.ly/3WYtSjc
ATTACH;FMTTYPE=image/jpeg:https://www.duurzaam-ondernemen.nl/wordpress/wp-
 content/uploads/2025/10/How-to-Future-proof-your-busniess-with-the-right-E
 SG-Solution.jpeg
CATEGORIES:Verslaggeving &amp; Transparantie
LOCATION:Online webinar\,  \,  \, Nederland
GEO:52.132633;5.291266
X-APPLE-STRUCTURED-LOCATION;VALUE=URI;X-ADDRESS= \,  \, Nederland;X-APPLE-R
 ADIUS=100;X-TITLE=Online webinar:geo:52.132633,5.291266
END:VEVENT
BEGIN:VTIMEZONE
TZID:Europe/Amsterdam
X-LIC-LOCATION:Europe/Amsterdam
BEGIN:STANDARD
DTSTART:20251026T020000
TZOFFSETFROM:+0200
TZOFFSETTO:+0100
TZNAME:CET
END:STANDARD
END:VTIMEZONE
END:VCALENDAR