BEGIN:VCALENDAR
VERSION:2.0
PRODID:-//wp-events-plugin.com//7.2.3.1//EN
TZID:Europe/Amsterdam
X-WR-TIMEZONE:Europe/Amsterdam
BEGIN:VEVENT
UID:1913@duurzaam-ondernemen.nl
DTSTART;TZID=Europe/Amsterdam:20251211T110000
DTEND;TZID=Europe/Amsterdam:20251211T114500
DTSTAMP:20251128T100143Z
URL:https://www.duurzaam-ondernemen.nl/events/webinar-esrs-2-0-wat-de-nieu
 we-datapunten-van-efrag-betekenen-voor-uw-rapportage/
SUMMARY:Webinar: ESRS 2.0: Wat de nieuwe datapunten van EFRAG betekenen voo
 r uw rapportage
DESCRIPTION:Op donderdag 11 december om 11:00 uur organiseert Coolset een l
 ivesessie van 45 minuten over hoe je je huidige CSRD-rapportage kunt afste
 mmen op de updates van EFRAG van eind november.\n\nMet de publicatie van d
 e definitieve ESRS-datapunten eind november gaat het landschap van duurzaa
 mheidsrapportage een nieuwe fase in.\n\nWat je leert:\n\n→ Wat er is ver
 anderd in de nieuwe ESRS-dataset van EFRAG en wat hetzelfde is gebleven\n\
 n→ Hoe de herziene datapunten van invloed zijn op de reikwijdte\, tijdli
 jnen en documentatie van je rapportage\n\n→ Hoe je je materialiteitsbe
 oordeling\, toelichtingen en auditgereedheid kunt aanpassen met het oog op
  2026\n\nReserveer hier je plek
ATTACH;FMTTYPE=image/jpeg:https://www.duurzaam-ondernemen.nl/wordpress/wp-
 content/uploads/2025/11/Schermafbeelding-2025-11-28-110108.jpg
CATEGORIES:Verslaggeving &amp; Transparantie
LOCATION:Online webinar\,  \,  \, Nederland
GEO:52.132633;5.291266
X-APPLE-STRUCTURED-LOCATION;VALUE=URI;X-ADDRESS= \,  \, Nederland;X-APPLE-R
 ADIUS=100;X-TITLE=Online webinar:geo:52.132633,5.291266
END:VEVENT
BEGIN:VTIMEZONE
TZID:Europe/Amsterdam
X-LIC-LOCATION:Europe/Amsterdam
BEGIN:STANDARD
DTSTART:20251026T020000
TZOFFSETFROM:+0200
TZOFFSETTO:+0100
TZNAME:CET
END:STANDARD
END:VTIMEZONE
END:VCALENDAR