BEGIN:VCALENDAR
VERSION:2.0
PRODID:-//wp-events-plugin.com//7.2.3.1//EN
TZID:Europe/Amsterdam
X-WR-TIMEZONE:Europe/Amsterdam
BEGIN:VEVENT
UID:2074@duurzaam-ondernemen.nl
DTSTART;TZID=Europe/Amsterdam:20260507T110000
DTEND;TZID=Europe/Amsterdam:20260507T123000
DTSTAMP:20260425T074447Z
URL:https://www.duurzaam-ondernemen.nl/events/webinar-esg-reporting-eu-and
 -beyond/
SUMMARY:Webinar ESG Reporting - EU and Beyond
DESCRIPTION:Hear from a range of expert speakers as they share their experi
 ence in meeting the challenges of ESG reporting across complex supply ch
 ains across the EU and beyond.\n\nThis webinar is delivered in partnershi
 p with ISO24000.org\, Planet Yes and FIRA\nOur speakers\n\n\nNaar live web
 inar op Youtube
ATTACH;FMTTYPE=image/jpeg:https://www.duurzaam-ondernemen.nl/wordpress/wp-
 content/uploads/2026/04/2040.jpg
CATEGORIES:Verslaggeving &amp; Transparantie
LOCATION:Online webinar\,  \,  \, Nederland
GEO:52.132633;5.291266
X-APPLE-STRUCTURED-LOCATION;VALUE=URI;X-ADDRESS= \,  \, Nederland;X-APPLE-R
 ADIUS=100;X-TITLE=Online webinar:geo:52.132633,5.291266
END:VEVENT
BEGIN:VTIMEZONE
TZID:Europe/Amsterdam
X-LIC-LOCATION:Europe/Amsterdam
BEGIN:DAYLIGHT
DTSTART:20260329T030000
TZOFFSETFROM:+0100
TZOFFSETTO:+0200
TZNAME:CEST
END:DAYLIGHT
END:VTIMEZONE
END:VCALENDAR