BEGIN:VCALENDAR
VERSION:2.0
PRODID:-//wp-events-plugin.com//7.2.3.1//EN
TZID:Europe/Amsterdam
X-WR-TIMEZONE:Europe/Amsterdam
BEGIN:VEVENT
UID:2026@duurzaam-ondernemen.nl
DTSTART;TZID=Europe/Amsterdam:20261207T140000
DTEND;TZID=Europe/Amsterdam:20261207T150000
DTSTAMP:20260310T072334Z
URL:https://www.duurzaam-ondernemen.nl/events/webinar-esg-regulatory-brief
 ing-3/
SUMMARY:Webinar: ESG Regulatory Briefing
DESCRIPTION:The regulatory frameworks governing corporate actions in the co
 ntext of sustainability and corporate responsibility issues are rapidly ev
 olving. After a long period mainly shaped by industry self-regulation\, co
 mpanies now face comprehensive expectations\, detailed both in soft law st
 andards and – increasingly – hard law.\n\nThe Global Compact Network S
 witzerland &amp\; Liechtenstein and other Global Compact Networks have for
 med a collaboration with ECOFACT to support companies in responding to r
 egulatory change related to sustainability and corporate responsibility. T
 he quarterly briefings on recent regulatory developments will provide info
 rmation on the actions that are expected from them today and in the near f
 uture.\nWhat to expect\n\n 	Updates on legislation and regulations from th
 e EU and international standard‑setters\n 	What these changes mean for y
 our organisation\, both in the short and long term\n 	Practical insights t
 o help you prepare and meet new expectations\n\nRegister for free
ATTACH;FMTTYPE=image/jpeg:https://www.duurzaam-ondernemen.nl/wordpress/wp-
 content/uploads/2026/03/images2Fpages2Fscherm-afbeelding-2026-01-06-om-18-
 34-28-png1767720879256-1.webp
CATEGORIES:Duurzaamheidsprofessionals,Verslaggeving &amp; Transparantie
LOCATION:Online webinar\,  \,  \, Nederland
GEO:52.132633;5.291266
X-APPLE-STRUCTURED-LOCATION;VALUE=URI;X-ADDRESS= \,  \, Nederland;X-APPLE-R
 ADIUS=100;X-TITLE=Online webinar:geo:52.132633,5.291266
END:VEVENT
BEGIN:VTIMEZONE
TZID:Europe/Amsterdam
X-LIC-LOCATION:Europe/Amsterdam
BEGIN:STANDARD
DTSTART:20261025T020000
TZOFFSETFROM:+0200
TZOFFSETTO:+0100
TZNAME:CET
END:STANDARD
END:VTIMEZONE
END:VCALENDAR