BEGIN:VCALENDAR
VERSION:2.0
PRODID:-//wp-events-plugin.com//7.2.3.1//EN
TZID:Europe/Amsterdam
X-WR-TIMEZONE:Europe/Amsterdam
BEGIN:VEVENT
UID:2037@duurzaam-ondernemen.nl
DTSTART;TZID=Europe/Amsterdam:20260326T110000
DTEND;TZID=Europe/Amsterdam:20260326T114500
DTSTAMP:20260320T123438Z
URL:https://www.duurzaam-ondernemen.nl/events/webinar-eres-voor-de-transpo
 rtsector/
SUMMARY:Webinar: 'ERE's voor de transportsector'
DESCRIPTION:Transportbedrijven met elektrische voertuigen kunnen op basis v
 an hun laaddata een structurele vergoeding ontvangen\, meer dan 10 cent pe
 r geladen kWh. In de praktijk maken veel bedrijven nog geen gebruik van em
 issiereductie-eenheden en leven er nog veel vragen.\n\nIn dit gratis webin
 ar bespreken Geert Hoekzema en Alex Loos van ELIX en Maarten Poot (co-foun
 der Voltico) wat de ERE-regeling inhoudt\, hoe je laadkosten optimaliseert
  en wat de vergoeding in de praktijk oplevert. Inclusief checklist en prak
 tijkcase.\n\nTijdens het webinar bespreken we:\n\n 	Alles over de nieuwe E
 RE-regeling.\n 	Hoe maximaliseer je je winst: laagste stroomprijs en de ho
 ogste vergoeding per ERE.\n 	Onze checklist en praktijkcase laten zien hoe
  het echt werkt. Van laden tot vergoeding.\n\nAanmelden via deze link: htt
 ps://www.elix.nl/gratis-webinar-eres/
ATTACH;FMTTYPE=image/jpeg:https://www.duurzaam-ondernemen.nl/wordpress/wp-
 content/uploads/2026/03/webinar-eres-voor-de-transportsector-1.webp
CATEGORIES:Mobiliteit en Transport/Logistiek
LOCATION:Online webinar\,  \,  \, Nederland
GEO:52.132633;5.291266
X-APPLE-STRUCTURED-LOCATION;VALUE=URI;X-ADDRESS= \,  \, Nederland;X-APPLE-R
 ADIUS=100;X-TITLE=Online webinar:geo:52.132633,5.291266
END:VEVENT
BEGIN:VTIMEZONE
TZID:Europe/Amsterdam
X-LIC-LOCATION:Europe/Amsterdam
BEGIN:STANDARD
DTSTART:20251026T020000
TZOFFSETFROM:+0200
TZOFFSETTO:+0100
TZNAME:CET
END:STANDARD
END:VTIMEZONE
END:VCALENDAR