BEGIN:VCALENDAR
VERSION:2.0
PRODID:-//wp-events-plugin.com//7.2.3.1//EN
TZID:Europe/Amsterdam
X-WR-TIMEZONE:Europe/Amsterdam
BEGIN:VEVENT
UID:1998@duurzaam-ondernemen.nl
DTSTART;TZID=Europe/Amsterdam:20260305T123000
DTEND;TZID=Europe/Amsterdam:20260305T133000
DTSTAMP:20260217T124625Z
URL:https://www.duurzaam-ondernemen.nl/events/webinar-ecovadis-ai-agent/
SUMMARY:Webinar EcoVadis AI Agent
DESCRIPTION:Are you working on EcoVadis and finding it challenging to fully
  understand the requirements\, identify gaps\, or find the internal capaci
 ty to improve your score?\n\nYou’re not alone.\n\nTogether with Agents f
 or Change\, The Teracce have worked on an innovative EcoVadis AI Agent th
 at helps organisations:\n\n 	Better understand EcoVadis requirements\n 	Qu
 ickly identify performance gaps\n 	Save time on gap analysis\n 	Work more 
 efficiently on improving your EcoVadis score\n\nDuring this one-hour webin
 ar\, we will:\n\n 	Explain what EcoVadis is and why it matters\n 	Introduc
 e the EcoVadis AI platform and its added value (including the sustainabili
 ty perspective behind the AI approach)\n 	Demonstrate the platform in prac
 tice\n 	Answer all your questions during a live Q&amp\;A\n\nAs a certified
  EcoVadis Training Partner\, we have combined our sustainability expertise
  with the AI knowledge of Agents for Change to create a practical\, time-
 saving solution for organisations working on sustainable procurement and 
 performance improvement.\n\nCurious to see how it works and what it can me
 an for your organisation? Join our online webinar\, free of charge!
ATTACH;FMTTYPE=image/jpeg:https://www.duurzaam-ondernemen.nl/wordpress/wp-
 content/uploads/2026/02/Webinar-EcoVadis-The-Terrace-460x800-1.png
CATEGORIES:Duurzaamheidsprofessionals
LOCATION:Online webinar\,  \,  \, Nederland
GEO:52.132633;5.291266
X-APPLE-STRUCTURED-LOCATION;VALUE=URI;X-ADDRESS= \,  \, Nederland;X-APPLE-R
 ADIUS=100;X-TITLE=Online webinar:geo:52.132633,5.291266
END:VEVENT
BEGIN:VTIMEZONE
TZID:Europe/Amsterdam
X-LIC-LOCATION:Europe/Amsterdam
BEGIN:STANDARD
DTSTART:20251026T020000
TZOFFSETFROM:+0200
TZOFFSETTO:+0100
TZNAME:CET
END:STANDARD
END:VTIMEZONE
END:VCALENDAR