BEGIN:VCALENDAR
VERSION:2.0
PRODID:-//wp-events-plugin.com//7.2.3.1//EN
TZID:Europe/Amsterdam
X-WR-TIMEZONE:Europe/Amsterdam
BEGIN:VEVENT
UID:2033@duurzaam-ondernemen.nl
DTSTART;TZID=Europe/Amsterdam:20260409T100000
DTEND;TZID=Europe/Amsterdam:20260409T110000
DTSTAMP:20260320T065822Z
URL:https://www.duurzaam-ondernemen.nl/events/webinar-duurzaamheidsrapport
 age-in-2026-csrd-esrs-en-vsme-in-de-praktijk/
SUMMARY:Webinar '“Duurzaamheidsrapportage in 2026: CSRD\, ESRS en VSME in
  de praktijk'
DESCRIPTION:Met de aanneming van het Omnibus-pakket van de Europese Commiss
 ie is er meer duidelijkheid ontstaan over de verdere ontwikkeling van de C
 SRD en andere Europese duurzaamheidswetgeving. Voor veel ondernemingen mar
 keert dit een nieuw moment: van afwachten naar vooruitkijken en verder bou
 wen aan hun aanpak voor duurzaamheidsrapportage.\n\nIn dit nieuwe SER-webi
 nar\, de derde in onze reeks over Omnibus en onderdeel van de bredere CSRD
 -webinarserie\, staan de ervaringen van ondernemingen centraal. Verschille
 nde organisaties delen hoe zij het afgelopen jaar zijn omgegaan met duurza
 amheidsrapportage\, welke keuzes zij hebben gemaakt en hoe zij vooruitkijk
 en naar de komende jaren en het boekjaar 2026.\n\nOok staan we stil bij de
  belangrijkste ontwikkelingen rond de rapportagestandaarden. Ondernemingen
  die onder de CSRD rapporteren doen dat aan de hand van de European Susta
 inability Reporting Standards (ESRS). Tegelijkertijd is de groep die niet 
 meer onder de wetgeving valt groter geworden\, deze groep kan nu aan de sl
 ag met de VSME-standaard\, een vrijwillig en vereenvoudigd kader voor duu
 rzaamheidsrapportage. In het webinar bespreken we kort hoe deze standaarde
 n zich tot elkaar verhouden en wat zij in de praktijk betekenen voor onder
 nemingen.\n\nDe Raad voor de Jaarverslaggeving geeft daarbij duiding bij d
 e ontwikkelingen in verslaggeving en de betekenis hiervan voor bedrijven. 
 Ter inleiding geven we ook een korte update over de belangrijkste ontwikke
 lingen rond het Omnibus-pakket en de aangepaste CSRD-wetgeving.\n\nHet web
 inar biedt inspiratie en praktische inzichten voor organisaties die werken
  aan duurzaamheidsrapportage of zich voorbereiden op toekomstige verplicht
 ingen.\nSprekers\n\n 	Noortje Crabbendam\, Beleidsmedewerker CSRD bij de S
 ER en moderator webinar\n 	Maaike Fleur\, Programmamanager Duurzame Ontwik
 keling bij Royal FloraHolland | verantwoordelijk voor de ontwikkeling van 
 de duurzaamheidverslaglegging en -integratie\n 	Simon Braaksma\, Senior Di
 rector bij Royal Philips NV |Voorzitter Raad voor de Jaarverslaggeving-wer
 kgroep Duurzaamheidsverslaggeving | Lid EFRAG Sustainability Reporting Boa
 rd\n 	Gerard van Santen\, Partner bij Ernst &amp\; Young | Voorzitter van 
 de Raad voor de Jaarverslaggeving (RJ) | lid van de EFRAG Financial Report
 ing Board\n 	Dionne Ewen\, Manager Sustainability &amp\; ESG bij Ahrend\, 
 co-auteur van Route Circulaire\, Bestuurslid van Nederlandse Vereniging Ci
 rculaire Economie en betrokken bij project Betekenisvolle Stakeholderdialo
 og van de SER\n\nSchrijf u in en hoor hoe bedrijven verder bouwen aan duur
 zaamheidsrapportage in de volgende fase van de CSRD.
ATTACH;FMTTYPE=image/jpeg:https://www.duurzaam-ondernemen.nl/wordpress/wp-
 content/uploads/2026/03/Schermafbeelding-2026-03-20-075552.jpg
CATEGORIES:Verslaggeving &amp; Transparantie
LOCATION:Online webinar\,  \,  \, Nederland
GEO:52.132633;5.291266
X-APPLE-STRUCTURED-LOCATION;VALUE=URI;X-ADDRESS= \,  \, Nederland;X-APPLE-R
 ADIUS=100;X-TITLE=Online webinar:geo:52.132633,5.291266
END:VEVENT
BEGIN:VTIMEZONE
TZID:Europe/Amsterdam
X-LIC-LOCATION:Europe/Amsterdam
BEGIN:DAYLIGHT
DTSTART:20260329T030000
TZOFFSETFROM:+0100
TZOFFSETTO:+0200
TZNAME:CEST
END:DAYLIGHT
END:VTIMEZONE
END:VCALENDAR