BEGIN:VCALENDAR
VERSION:2.0
PRODID:-//wp-events-plugin.com//7.2.3.1//EN
TZID:Europe/Amsterdam
X-WR-TIMEZONE:Europe/Amsterdam
BEGIN:VEVENT
UID:1318@duurzaam-ondernemen.nl
DTSTART;TZID=Europe/Amsterdam:20240528T100000
DTEND;TZID=Europe/Amsterdam:20240528T103000
DTSTAMP:20240430T082231Z
URL:https://www.duurzaam-ondernemen.nl/events/webinar-duurzaamheid-echt-bo
 rgen-in-jouw-organisatie/
SUMMARY:Webinar 'Duurzaamheid echt borgen in jouw organisatie'
DESCRIPTION:Steeds meer organisaties zijn actief bezig met het ontwikkelen 
 van een duurzaamheidsbeleid of hebben deze al! Om duurzaamheid succesvol o
 nderdeel te laten zijn van je organisatie en dit te waarborgen\, is het va
 n essentieel belang om medewerkers erbij te betrekken en hen mee te krijge
 n. Zij zijn de grootste kracht voor verandering! Maar hoe krijg je dit nu 
 voor elkaar?\n\nSandy Bommelyn van De Duurzame Adviseurs en Yvette Watson\
 , CEO en co-founder van 2B collective gaan tijdens dit webinar dieper in o
 p:\n\n- Hoe kun je duurzaamheid laten leven binnen je organisatie?\n- Onze
  aanpak\, wat je vooral niet moet doen en welke tools wij gebruiken om dit
  proces te versnellen\;\n- De wetenschap achter gedragsverandering en het 
 belang van het sociale tippingpoint\;\n- Het succes van gamification bij h
 et ontwikkelen van een duurzame mindset!\n\nWil jij er bij zijn? Meld je d
 an snel aan!
ATTACH;FMTTYPE=image/jpeg:https://www.duurzaam-ondernemen.nl/wordpress/wp-
 content/uploads/2024/04/webd.png
CATEGORIES:Duurzaamheidsprofessionals
LOCATION:Online webinar\,  \,  \, Nederland
GEO:52.132633;5.291266
X-APPLE-STRUCTURED-LOCATION;VALUE=URI;X-ADDRESS= \,  \, Nederland;X-APPLE-R
 ADIUS=100;X-TITLE=Online webinar:geo:52.132633,5.291266
END:VEVENT
BEGIN:VTIMEZONE
TZID:Europe/Amsterdam
X-LIC-LOCATION:Europe/Amsterdam
BEGIN:DAYLIGHT
DTSTART:20240331T030000
TZOFFSETFROM:+0100
TZOFFSETTO:+0200
TZNAME:CEST
END:DAYLIGHT
END:VTIMEZONE
END:VCALENDAR