BEGIN:VCALENDAR
VERSION:2.0
PRODID:-//wp-events-plugin.com//7.2.3.1//EN
TZID:Europe/Amsterdam
X-WR-TIMEZONE:Europe/Amsterdam
BEGIN:VEVENT
UID:1964@duurzaam-ondernemen.nl
DTSTART;TZID=Europe/Amsterdam:20260312T130000
DTEND;TZID=Europe/Amsterdam:20260312T140000
DTSTAMP:20260126T132337Z
URL:https://www.duurzaam-ondernemen.nl/events/webinar-duurzaamheid-co2-man
 agement-in-de-industrie/
SUMMARY:Webinar Duurzaamheid: CO2 management in de industrie
DESCRIPTION:Industriële bedrijven staan voor grote uitdagingen: CO₂-redu
 ctie\, stijgende energieprijzen\, netcongestie en toenemende wet- en regel
 geving. Hoe creëer je extra capaciteit en verlaag je je uitstoot\, zonder
  dat dit ten koste gaat van de productie?\nOp 12 maart organiseren Schn
 eider Electric en Kader een gezamenlijk webinar waarin zij laten zien hoe
  industriële organisaties de stap maken van duurzaamheidsambitie naar con
 crete actie. Met een combinatie van operationele\, technische en wettelijk
 e expertise delen zij praktische inzichten over datagedreven CO₂-managem
 ent\, energieprestatieverbetering en naleving van Nederlandse en Europese 
 klimaateisen.\nTijdens het webinar laten Esther (Kader) en Jun (Schneid
 er Electric) onder andere zien:\n\n\n 	hoe betrouwbare CO₂-data wordt v
 erzameld en ingezet\n 	hoe digitalisering en automatisering helpen bij stu
 ring en reductie\n 	hoe CO₂-management praktisch toepasbaar wordt binnen
  organisaties\n 	wat de CO₂-Prestatieladder vraagt rondom energieflexibi
 liteit en wat dit oplevert\n 	hoe de GAKS-subsidie werkt en hoe je stap vo
 or stap een succesvolle aanvraag indient\n\nDit webinar is bedoeld voor on
 dernemers en professionals die CO₂-management concreet willen toepassen 
 en hun organisatie toekomstbestendig willen maken.\nAanmelden
ATTACH;FMTTYPE=image/jpeg:https://www.duurzaam-ondernemen.nl/wordpress/wp-
 content/uploads/2026/01/Webinar-12-maart-Kader-en-Schneider-Electric.png
CATEGORIES:Klimaat en Energie
LOCATION:Online webinar\,  \,  \, Nederland
GEO:52.132633;5.291266
X-APPLE-STRUCTURED-LOCATION;VALUE=URI;X-ADDRESS= \,  \, Nederland;X-APPLE-R
 ADIUS=100;X-TITLE=Online webinar:geo:52.132633,5.291266
END:VEVENT
BEGIN:VTIMEZONE
TZID:Europe/Amsterdam
X-LIC-LOCATION:Europe/Amsterdam
BEGIN:STANDARD
DTSTART:20251026T020000
TZOFFSETFROM:+0200
TZOFFSETTO:+0100
TZNAME:CET
END:STANDARD
END:VTIMEZONE
END:VCALENDAR