BEGIN:VCALENDAR
VERSION:2.0
PRODID:-//wp-events-plugin.com//7.2.3.1//EN
TZID:Europe/Amsterdam
X-WR-TIMEZONE:Europe/Amsterdam
BEGIN:VEVENT
UID:1668@duurzaam-ondernemen.nl
DTSTART;TZID=Europe/Amsterdam:20250401T120000
DTEND;TZID=Europe/Amsterdam:20250401T124500
DTSTAMP:20250320T122800Z
URL:https://www.duurzaam-ondernemen.nl/events/webinar-duurzaam-verleiden/
SUMMARY:Webinar “Duurzaam verleiden”
DESCRIPTION:Over dit webinar.\nDe discussie over duurzaamheid lijkt steeds 
 te draaien om tegenstellingen. “Duurzaamheid is te duur.” “Winst en 
 milieu gaan niet samen.” Maar is dat wel zo?\n\nWij geloven dat duurzaam
 heid niet alleen noodzakelijk is\, maar ook lucratief kan zijn. Voor ‘cl
 ients\, citizens\, community én company’.\n\nIn dit webinar laat Ed Sti
 bbe\, co-auteur van het boek “Duurzame Verleiding”\, zien waarom en ho
 e steeds meer bedrijven succesvol duurzaamheid inzetten als motor voor gro
 ei én merkvoorkeur.\n\nWat kun je verwachten?\n\n 	Praktische inzichten e
 n tools om duurzame strategieën te integreren op basis van het Duurzaamhe
 ids Adoptiemodel.\n 	Inspirerende voorbeelden van merken die leefzaam én 
 lucratief werken. Zowel in B2B als B2C\n 	Antwoorden op de vraag hoe je (n
 ieuwe) klanten verleidt tot duurzame keuzes.\n\nVoor wie is dit webinar?\n
 \nVoor Sustainablity professionals en missiegedreven marketeers/ondernemer
 s.\n\nDit webinar is een eerste stap naar onze training ‘Duurzaam Verlei
 den’.\n\nIn slechts 45 minuten laat Ed Stibbe zien hoe je duurzaamheid v
 ertaalt naar concrete winst voor je organisatie én de wereld om je heen.\
 n\nMeld je dan nu aan!
ATTACH;FMTTYPE=image/jpeg:https://www.duurzaam-ondernemen.nl/wordpress/wp-
 content/uploads/2025/03/Webinar-Duurzaam-Verleiden.png
CATEGORIES:Duurzaamheidsprofessionals
LOCATION:Online webinar\,  \,  \, Nederland
GEO:52.132633;5.291266
X-APPLE-STRUCTURED-LOCATION;VALUE=URI;X-ADDRESS= \,  \, Nederland;X-APPLE-R
 ADIUS=100;X-TITLE=Online webinar:geo:52.132633,5.291266
END:VEVENT
BEGIN:VTIMEZONE
TZID:Europe/Amsterdam
X-LIC-LOCATION:Europe/Amsterdam
BEGIN:DAYLIGHT
DTSTART:20250330T030000
TZOFFSETFROM:+0100
TZOFFSETTO:+0200
TZNAME:CEST
END:DAYLIGHT
END:VTIMEZONE
END:VCALENDAR