BEGIN:VCALENDAR
VERSION:2.0
PRODID:-//wp-events-plugin.com//7.2.3.1//EN
TZID:Europe/Amsterdam
X-WR-TIMEZONE:Europe/Amsterdam
BEGIN:VEVENT
UID:1667@duurzaam-ondernemen.nl
DTSTART;TZID=Europe/Amsterdam:20250325T120000
DTEND;TZID=Europe/Amsterdam:20250325T124500
DTSTAMP:20250320T122622Z
URL:https://www.duurzaam-ondernemen.nl/events/webinar-duurzaam-veranderman
 agement/
SUMMARY:Webinar “Duurzaam verandermanagement”
DESCRIPTION:Over dit webinar.\nHoe krijg je mensen mee met jouw duurzame in
 itiatief?\n\nVerduurzaming is geen trend meer\, het is een noodzaak. Toch 
 stuit je vaak op weerstand en obstakels bij duurzame verandering. Hoe zorg
  je ervoor dat jouw verandering niet alleen blijft bij een mooi plan\, maa
 r dat het ook echt wordt geïmplementeerd?\n\nIn deze inspirerende en prak
 tische webinar leer je:\n\n 	Waarom veranderingen zo vaak niet slagen\n 	W
 elke praktische handvatten je kunt inzetten om verandering succesvol vorm 
 te geven\n 	Hoe je stakeholders meekrijgt en betrokken houdt bij een lange
 termijnvisie\n 	Wat nodig is om verandering écht impactvol en blijvend te
  maken\n\nVoor wie is dit webinar?\n\nVoor iedereen die bezig is met verdu
 urzaming binnen een organisatie – of je nu werkt in HR\, operations\, in
 novatie\, duurzaamheid of een andere rol waarin je impact wilt maken.\n\nD
 it webinar is een eerste stap naar onze tweedaagse training ‘Duurzaam Ve
 randermanagement’.\n\nWil jij duurzaamheid niet alleen agenderen\, maar 
 ook realiseren?\n\nMeld je dan nu aan!\n\n 
ATTACH;FMTTYPE=image/jpeg:https://www.duurzaam-ondernemen.nl/wordpress/wp-
 content/uploads/2025/03/Webinar-Duurzaam-Verandermanagement.png
CATEGORIES:Duurzaamheidsprofessionals
LOCATION:Online webinar\,  \,  \, Nederland
GEO:52.132633;5.291266
X-APPLE-STRUCTURED-LOCATION;VALUE=URI;X-ADDRESS= \,  \, Nederland;X-APPLE-R
 ADIUS=100;X-TITLE=Online webinar:geo:52.132633,5.291266
END:VEVENT
BEGIN:VTIMEZONE
TZID:Europe/Amsterdam
X-LIC-LOCATION:Europe/Amsterdam
BEGIN:STANDARD
DTSTART:20241027T020000
TZOFFSETFROM:+0200
TZOFFSETTO:+0100
TZNAME:CET
END:STANDARD
END:VTIMEZONE
END:VCALENDAR