BEGIN:VCALENDAR
VERSION:2.0
PRODID:-//wp-events-plugin.com//7.2.3.1//EN
TZID:Europe/Amsterdam
X-WR-TIMEZONE:Europe/Amsterdam
BEGIN:VEVENT
UID:1197@duurzaam-ondernemen.nl
DTSTART;TZID=Europe/Amsterdam:20240206T090000
DTEND;TZID=Europe/Amsterdam:20240206T110000
DTSTAMP:20240111T110649Z
URL:https://www.duurzaam-ondernemen.nl/events/webinar-denk-mee-over-het-na
 tionaal-milieuprogramma/
SUMMARY:Webinar: denk mee over het Nationaal MilieuProgramma (NMP)
DESCRIPTION:In het Nationaal MilieuProgramma (NMP) komt te staan hoe we erv
 oor willen zorgen dat de leefomgeving in 2050 gezond\, schoon en veilig is
 . Eén van de hoofdlijnen van het NMP richt zich op de duurzame economie. 
 Daarom wil het ministerie van Infrastructuur en Waterstaat\, verantwoordel
 ijk voor het NMP\,  graag van jou als ondernemer horen wat je vindt van h
 et NMP.  Wat mist er of kan anders\, met name in het stuk over de duurzam
 e economie? Tijdens dit webinar ingericht als online feedbacksessie kan je
  jouw input geven.\nHet Nationaal Milieuprogramma roept op tot een andere 
 omgang met grondstoffen en een economie die geen schade toebrengt aan de m
 ens\, het milieu of de natuur. Daarvoor is het plan om in te zetten op cir
 culaire economie\, strenge rappportagerichtlijnen voor chemische stoffen (
 REACH)\, biotechnologie en de safe-by-design aanpak\, wat betekent dat pro
 ductontwikkelaars al vroeg in het proces rekening moeten houden met veilig
 heid.\nTijdens deze feedbacksessie wordt het Nationaal MilieuProgramma (NM
 P) gepresenteerd door het ministerie van Infrastructuur en Waterstaat. Ver
 volgens is er ruimte om zelf inbreng te leveren op het programma en een di
 scussie te voeren. Het Nationaal MilieuProgramma (NMP) is aangekondigd in 
 de Nationale Omgevingsvisie en is een uitwerking van de visie die is opg
 enomen in het Nationaal Milieubeleidskader. Op de website van de rijksov
 erheid vind je meer informatie over het Nationaal Milieubeleidskader en v
 ind je ook de definitieve versie van het rapport.\n\nPROGRAMMA\n09:00 – 
 09:30 uur: Presentatie NMP &amp\; duurzame economie\n09:30 – 10:00 uur: 
 Feedbackronde in kleinere groepen\n10:00 – 10:30 uur: Terugkoppeling ple
 nair\n10:30 – 11:00 uur: Open discussie en afsluiting\nWAAROM JE HIER BI
 J WILT ZIJN\n\n 	Krijg de kans om mee te praten en zelf input te geven op 
 het Nationaal Milieu Programma\n 	Draag bij aan een actieve discussie met 
 vertegenwoordigers van het ministerie van I&amp\;W\n 	Blijf op de hoogte v
 an de plannen om een gezond\, schoon en veilige leefomgeving te hebben in 
 2050\n\nVOOR WIE IS DIT INTERESSANT?\nVoor ondernemers die werken aan of t
 e maken hebben met de verduurzaming van de economie.\n\nAanmelden
ATTACH;FMTTYPE=image/jpeg:https://www.duurzaam-ondernemen.nl/wordpress/wp-
 content/uploads/2022/06/pwc_webinar.jpg
CATEGORIES:Duurzaamheidsprofessionals
LOCATION:Online webinar\,  \,  \, Nederland
GEO:52.132633;5.291266
X-APPLE-STRUCTURED-LOCATION;VALUE=URI;X-ADDRESS= \,  \, Nederland;X-APPLE-R
 ADIUS=100;X-TITLE=Online webinar:geo:52.132633,5.291266
END:VEVENT
BEGIN:VTIMEZONE
TZID:Europe/Amsterdam
X-LIC-LOCATION:Europe/Amsterdam
BEGIN:STANDARD
DTSTART:20231029T020000
TZOFFSETFROM:+0200
TZOFFSETTO:+0100
TZNAME:CET
END:STANDARD
END:VTIMEZONE
END:VCALENDAR